BEGIN:VCALENDAR
VERSION:2.0
PRODID:-//Office of Academic &amp; Career Success - ECPv6.15.20//NONSGML v1.0//EN
CALSCALE:GREGORIAN
METHOD:PUBLISH
X-ORIGINAL-URL:https://oacs.wisc.edu
X-WR-CALDESC:Events for Office of Academic &amp; Career Success
REFRESH-INTERVAL;VALUE=DURATION:PT1H
X-Robots-Tag:noindex
X-PUBLISHED-TTL:PT1H
BEGIN:VTIMEZONE
TZID:America/Chicago
BEGIN:DAYLIGHT
TZOFFSETFROM:-0600
TZOFFSETTO:-0500
TZNAME:CDT
DTSTART:20250309T080000
END:DAYLIGHT
BEGIN:STANDARD
TZOFFSETFROM:-0500
TZOFFSETTO:-0600
TZNAME:CST
DTSTART:20251102T070000
END:STANDARD
BEGIN:DAYLIGHT
TZOFFSETFROM:-0600
TZOFFSETTO:-0500
TZNAME:CDT
DTSTART:20260308T080000
END:DAYLIGHT
BEGIN:STANDARD
TZOFFSETFROM:-0500
TZOFFSETTO:-0600
TZNAME:CST
DTSTART:20261101T070000
END:STANDARD
BEGIN:DAYLIGHT
TZOFFSETFROM:-0600
TZOFFSETTO:-0500
TZNAME:CDT
DTSTART:20270314T080000
END:DAYLIGHT
BEGIN:STANDARD
TZOFFSETFROM:-0500
TZOFFSETTO:-0600
TZNAME:CST
DTSTART:20271107T070000
END:STANDARD
END:VTIMEZONE
BEGIN:VEVENT
DTSTART;TZID=America/Chicago:20260319T130000
DTEND;TZID=America/Chicago:20260319T150000
DTSTAMP:20260421T102623
CREATED:20251106T173522Z
LAST-MODIFIED:20251106T173522Z
UID:10000982-1773925200-1773932400@oacs.wisc.edu
SUMMARY:Learn to Use Tableau!
DESCRIPTION:Interested in learning more about using Tableau\, UW–Madison’s data visualization software? Join us for Learn to Use Tableau\, a hands-on training session that will help you get comfortable using Tableau for data visualizations and Institutional Data Exporters (IDEs). \nIn this interactive workshop\, you’ll learn how to: \n\nApply filters and navigate dashboards\nSave custom views and download data\nBuild transferable skills for any Tableau workbook—including those in the OACS Data Catalog\n\nNo prior experience with these tools is necessary. We’ll work with simplified\, practice datasets—not operational data tied to specific roles—so you can focus on building transferable skills in a low-pressure environment. Please bring a laptop to this training. Registered participants must take the 30-minute virtual Data@UW training prior to attending this in-person training workshop.\n \nNote: If you are unable to attend on this date\, Learn to Use Tableau will be held once per semester. \nQuestions? Reach out to info.oacs@wisc.edu. \n\nWhen: Thursday\, March 19\, 2026 from 1:00 to 3:00 p.m. \nWhere: Memorial Union (please check “Today in the Union” for the specific room) \nWho: Advising\, Career Services\, and Learning Support Community Members \nRegister Here by March 17\n\n\nPlease note that using the “Add to Calendar” button below will not register you for this event. Please click above to register.
URL:https://oacs.wisc.edu/event/learn-to-use-tableau-5/
LOCATION:Memorial Union
END:VEVENT
END:VCALENDAR