BEGIN:VCALENDAR
VERSION:2.0
PRODID:-//Office of Academic &amp; Career Success - ECPv6.15.20//NONSGML v1.0//EN
CALSCALE:GREGORIAN
METHOD:PUBLISH
X-WR-CALNAME:Office of Academic &amp; Career Success
X-ORIGINAL-URL:https://oacs.wisc.edu
X-WR-CALDESC:Events for Office of Academic &amp; Career Success
REFRESH-INTERVAL;VALUE=DURATION:PT1H
X-Robots-Tag:noindex
X-PUBLISHED-TTL:PT1H
BEGIN:VTIMEZONE
TZID:America/Chicago
BEGIN:DAYLIGHT
TZOFFSETFROM:-0600
TZOFFSETTO:-0500
TZNAME:CDT
DTSTART:20250309T080000
END:DAYLIGHT
BEGIN:STANDARD
TZOFFSETFROM:-0500
TZOFFSETTO:-0600
TZNAME:CST
DTSTART:20251102T070000
END:STANDARD
BEGIN:DAYLIGHT
TZOFFSETFROM:-0600
TZOFFSETTO:-0500
TZNAME:CDT
DTSTART:20260308T080000
END:DAYLIGHT
BEGIN:STANDARD
TZOFFSETFROM:-0500
TZOFFSETTO:-0600
TZNAME:CST
DTSTART:20261101T070000
END:STANDARD
BEGIN:DAYLIGHT
TZOFFSETFROM:-0600
TZOFFSETTO:-0500
TZNAME:CDT
DTSTART:20270314T080000
END:DAYLIGHT
BEGIN:STANDARD
TZOFFSETFROM:-0500
TZOFFSETTO:-0600
TZNAME:CST
DTSTART:20271107T070000
END:STANDARD
END:VTIMEZONE
BEGIN:VEVENT
DTSTART;TZID=America/Chicago:20260306T100000
DTEND;TZID=America/Chicago:20260306T113000
DTSTAMP:20260421T234219
CREATED:20260116T185450Z
LAST-MODIFIED:20260120T155948Z
UID:10000992-1772791200-1772796600@oacs.wisc.edu
SUMMARY:Big Interview: Creating & Managing Custom Interview Assignments
DESCRIPTION:Join us for an interactive virtual training session designed to help career services professionals create and manage customized interview assignments in Big Interview!  \nDuring this session\, you’ll learn best practices for designing and setting up interview assignments\, which can include both interview practice questions AND lessons on interviewing\, job search strategy\, negotiation\, and more. We’ll also walk through effective ways to promote these assignments to your student or alumni audiences and show you how to seamlessly manage and review submissions.  \nThis session is ideal for career services professionals or faculty and staff looking to integrate interview‑focused assignments into their programming. \nNOTE: To create interview assignments\, participants will need an organizational administrative account in Big Resume/Big Interview. If you don’t yet have an account\, please request it prior to the training with this form. \nQuestions? Reach out to Ilsa May at ilsa.may@wisc.edu. \n\nWhen: Friday\, March 6\, 2026 from 10:00 to 11:30 a.m. \nWhere: Virtual via Zoom | Link will be sent to registered participants prior to the event \nWho: Career Services staff + faculty/staff interested in creating interview assignments \nRegister Here by March 3\n\n\nPlease note that using the “Add to Calendar” button below will not register you for this event. Please click above to register.
URL:https://oacs.wisc.edu/event/big-interview-training-creating-managing-custom-interview-assignments/
LOCATION:Virtual
CATEGORIES:For Career Services Professionals
END:VEVENT
BEGIN:VEVENT
DTSTART;TZID=America/Chicago:20260318T100000
DTEND;TZID=America/Chicago:20260318T111500
DTSTAMP:20260421T234219
CREATED:20260224T202909Z
LAST-MODIFIED:20260227T171857Z
UID:10000996-1773828000-1773832500@oacs.wisc.edu
SUMMARY:Handshake Overview: What Do Students See & Experience?
DESCRIPTION:Join us for a virtual training session designed to help faculty and staff understand the platform from the user’s point of view. In this session\, we’ll cover: \n\nWhat Handshake is and a general overview of the platform\nKey features available to current students and alumni\nPractical and creative ways to promote Handshake and encourage adoption among students and alumni\n\nThis session will give you a clear\, accessible understanding of how Handshake can enhance a student’s career journey. \nNote: This session is focused on the user (student/alumni) experience and meant for any staff or faculty who support students and want a general understanding of Handshake. For career services staff\, we will briefly cover backend administrative features and how to request a career services administrative account. \nQuestions? Reach out to Ilsa May at ilsa.may@wisc.edu. \n\nWhen: Wednesday\, March 18\, 2026 from 10:00 to 11:15 a.m. \nWhere: Virtual via Zoom (link provided prior to event) \nWho: Anyone interested in learning more about the Handshake user experience! \nRegister Here by March 16\n\n\nPlease note that using the “Add to Calendar” button below will not register you for this event. Please click above to register.
URL:https://oacs.wisc.edu/event/handshake-overview-what-do-students-see-experience/
LOCATION:Virtual
END:VEVENT
END:VCALENDAR