BEGIN:VCALENDAR
VERSION:2.0
PRODID:-//Office of Academic &amp; Career Success - ECPv6.15.20//NONSGML v1.0//EN
CALSCALE:GREGORIAN
METHOD:PUBLISH
X-WR-CALNAME:Office of Academic &amp; Career Success
X-ORIGINAL-URL:https://oacs.wisc.edu
X-WR-CALDESC:Events for Office of Academic &amp; Career Success
REFRESH-INTERVAL;VALUE=DURATION:PT1H
X-Robots-Tag:noindex
X-PUBLISHED-TTL:PT1H
BEGIN:VTIMEZONE
TZID:America/Chicago
BEGIN:DAYLIGHT
TZOFFSETFROM:-0600
TZOFFSETTO:-0500
TZNAME:CDT
DTSTART:20240310T080000
END:DAYLIGHT
BEGIN:STANDARD
TZOFFSETFROM:-0500
TZOFFSETTO:-0600
TZNAME:CST
DTSTART:20241103T070000
END:STANDARD
BEGIN:DAYLIGHT
TZOFFSETFROM:-0600
TZOFFSETTO:-0500
TZNAME:CDT
DTSTART:20250309T080000
END:DAYLIGHT
BEGIN:STANDARD
TZOFFSETFROM:-0500
TZOFFSETTO:-0600
TZNAME:CST
DTSTART:20251102T070000
END:STANDARD
BEGIN:DAYLIGHT
TZOFFSETFROM:-0600
TZOFFSETTO:-0500
TZNAME:CDT
DTSTART:20260308T080000
END:DAYLIGHT
BEGIN:STANDARD
TZOFFSETFROM:-0500
TZOFFSETTO:-0600
TZNAME:CST
DTSTART:20261101T070000
END:STANDARD
END:VTIMEZONE
BEGIN:VEVENT
DTSTART;TZID=America/Chicago:20250818T140000
DTEND;TZID=America/Chicago:20250818T150000
DTSTAMP:20260422T191638
CREATED:20250709T175626Z
LAST-MODIFIED:20250714T194517Z
UID:10000920-1755525600-1755529200@oacs.wisc.edu
SUMMARY:Career Courses & Curriculum Community of Practice Meeting
DESCRIPTION:The Career Courses and Curriculum Community of Practice (CoP) brings together staff who teach career courses or develop career-related curriculum to share insights\, challenges\, and opportunities. Each meeting topic will be shaped by community members through a quick poll sent to the community member email. Meetings will be highly discussion-based. The goal is to create an open\, collaborative space where everyone can share\, learn\, and connect. \nIf you would like to become a Career Courses & Curriculum Community of Practice member and receive meeting updates and other community resources via email\, please visit this page and follow the steps to sign up for the email list. \nQuestions? Contact Danielle at danielle.marriner@wisc.edu. \n\nWhen: Monday\, August 18 from 2:00 to 3:00 p.m. \nWhere: Virtual via Zoom  Join Here \nWho: Career Courses and Curriculum Community of Practice members \n\nTo join this meeting\, click the virtual link above at the meeting date and time. No need to register for this specific meeting. We encourage you to join the Career Courses & Curriculum Community of Practice if you are interested in this meeting.
URL:https://oacs.wisc.edu/event/career-courses-curriculum-community-of-practice-meeting-6/
LOCATION:Virtual
CATEGORIES:For Career Services Professionals
END:VEVENT
END:VCALENDAR