BEGIN:VCALENDAR
VERSION:2.0
PRODID:-//Office of Academic &amp; Career Success - ECPv6.15.20//NONSGML v1.0//EN
CALSCALE:GREGORIAN
METHOD:PUBLISH
X-ORIGINAL-URL:https://oacs.wisc.edu
X-WR-CALDESC:Events for Office of Academic &amp; Career Success
REFRESH-INTERVAL;VALUE=DURATION:PT1H
X-Robots-Tag:noindex
X-PUBLISHED-TTL:PT1H
BEGIN:VTIMEZONE
TZID:America/Chicago
BEGIN:DAYLIGHT
TZOFFSETFROM:-0600
TZOFFSETTO:-0500
TZNAME:CDT
DTSTART:20240310T080000
END:DAYLIGHT
BEGIN:STANDARD
TZOFFSETFROM:-0500
TZOFFSETTO:-0600
TZNAME:CST
DTSTART:20241103T070000
END:STANDARD
BEGIN:DAYLIGHT
TZOFFSETFROM:-0600
TZOFFSETTO:-0500
TZNAME:CDT
DTSTART:20250309T080000
END:DAYLIGHT
BEGIN:STANDARD
TZOFFSETFROM:-0500
TZOFFSETTO:-0600
TZNAME:CST
DTSTART:20251102T070000
END:STANDARD
BEGIN:DAYLIGHT
TZOFFSETFROM:-0600
TZOFFSETTO:-0500
TZNAME:CDT
DTSTART:20260308T080000
END:DAYLIGHT
BEGIN:STANDARD
TZOFFSETFROM:-0500
TZOFFSETTO:-0600
TZNAME:CST
DTSTART:20261101T070000
END:STANDARD
END:VTIMEZONE
BEGIN:VEVENT
DTSTART;TZID=America/Chicago:20251201T140000
DTEND;TZID=America/Chicago:20251201T150000
DTSTAMP:20260422T035721
CREATED:20250714T190211Z
LAST-MODIFIED:20251030T150134Z
UID:10000926-1764597600-1764601200@oacs.wisc.edu
SUMMARY:Career Courses & Curriculum Community of Practice Meeting
DESCRIPTION:The Career Courses and Curriculum Community of Practice (CoP) brings together staff who teach career courses or develop career-related curriculum to share insights\, challenges\, and opportunities. Each meeting topic will be shaped by community members through a quick poll sent to the community member email. Meetings will be highly discussion-based. The goal is to create an open\, collaborative space where everyone can share\, learn\, and connect. If you would like to become a Career Courses & Curriculum Community of Practice member and receive meeting updates and other community resources via email\, please visit this page and follow the steps to sign up for the email list. \n🌟 December Meeting Topic: Integrating Big Interview & Big Resume into career courses \nQuestions? Contact Danielle at danielle.marriner@wisc.edu. \n\nWhen: Monday\, December 1 from 2:00 to 3:00 p.m. \nWhere: Virtual via Zoom  Join Here \nWho: Career Courses and Curriculum Community of Practice members \n\nTo join this meeting\, click the virtual link above at the meeting date and time. No need to register for this specific meeting. We encourage you to join the Career Courses & Curriculum Community of Practice if you are interested in attending this meeting.
URL:https://oacs.wisc.edu/event/career-courses-curriculum-community-of-practice-meeting-8/
LOCATION:Virtual
CATEGORIES:For Career Services Professionals
END:VEVENT
BEGIN:VEVENT
DTSTART;TZID=America/Chicago:20251202T130000
DTEND;TZID=America/Chicago:20251202T141500
DTSTAMP:20260422T035721
CREATED:20250814T192823Z
LAST-MODIFIED:20251202T174211Z
UID:10000943-1764680400-1764684900@oacs.wisc.edu
SUMMARY:Campus Resources and Referrals: McBurney Disability Resource Center
DESCRIPTION:Campus Resources and Referrals is your monthly backstage pass to UW–Madison’s student support network—perfect for new staff in advising\, career services\, and learning support\, but open to everyone in our communities! Each session brings you face-to-face with key campus office staff—from University Health Services to the McBurney Center—who’ll share tips on how and when to refer students for the assistance they need. It’s a great way to build your campus know-how\, grow your professional network\, and learn the best ways to support students holistically. \n🌟 December Session Topic: McBurney Disability Resource Center \nThe McBurney Disability Resource Center is UW-Madison’s resource for disability-related student accommodations. McBurney staff work to ensure all students have equitable access to their educational experience\, regardless of their disability status. Join us this month to learn more about when and how to refer a student to the McBurney Disability Resource Center! \nQuestions? Contact Kim Mueller at kim.mueller@wisc.edu. \n\nWhen: Tuesday\, December 2\, 2025 from 1:00 to 2:15 p.m. \nWhere: Memorial Union (Please check “Today in the Union” for the specific room) \nWho: Advising\, Career Services\, and Learning Support Community Members \nRegister Here by November 31 \n\n\nPlease note that using the “Add to Calendar” button below will not register you for this event. Please click above to register.
URL:https://oacs.wisc.edu/event/campus-resources-and-referrals-december-session/
LOCATION:Memorial Union
CATEGORIES:For New Staff
END:VEVENT
BEGIN:VEVENT
DTSTART;TZID=America/Chicago:20251204T090000
DTEND;TZID=America/Chicago:20251204T110000
DTSTAMP:20260422T035721
CREATED:20251112T155452Z
LAST-MODIFIED:20251112T155855Z
UID:10000983-1764838800-1764846000@oacs.wisc.edu
SUMMARY:Data Drop-ins with DAPIR
DESCRIPTION:Need some help with data? Join a Data Drop-in! \nHave a specific question or need guidance on a data-related topic? Data Drop-ins are brief\, focused sessions (5–30 minutes) designed to offer personalized support from Matt Delaney\, Student Success Analyst in DAPIR. \nWhether you’re troubleshooting a data project\, interpreting a dataset\, exploring tools\, or tackling something else entirely\, these one-on-one consultations are here to help. \nSessions are held via Zoom and scheduled based on availability. Just fill out the form below\, and you’ll receive a follow-up to confirm your session time. \nQuestions? Reach out to Matt at matt.delaney@wisc.edu. \n\nWhen: Thursday\, December 4\, 2025 from 9:00 to 11:00 a.m. \nWhere: Virtual via Zoom \nWho: Advising\, Career Services\, and Learning Support Community Members \nReserve a Drop-in Time Slot\n\n\nPlease note that using the “Add to Calendar” button below will not register you for this event. Please click above to register.
URL:https://oacs.wisc.edu/event/data-drop-ins-with-dapir/
LOCATION:Virtual
END:VEVENT
BEGIN:VEVENT
DTSTART;TZID=America/Chicago:20251205T100000
DTEND;TZID=America/Chicago:20251205T113000
DTSTAMP:20260422T035721
CREATED:20250917T204110Z
LAST-MODIFIED:20250917T215044Z
UID:10000975-1764928800-1764934200@oacs.wisc.edu
SUMMARY:Handshake Training: Event Management & Attendance Tracking
DESCRIPTION:Join us for a virtual training session designed to help career services professionals effectively create and manage events in Handshake. This session will cover: \n\nHow to set up career events and tailor visibility and registration settings for specific student groups\nInsights into how students engage with events on the platform\nTools and features for tracking attendance and interacting with attendees\nHow to pull event-related reports and upload attendance data\n\nParticipants should have a career services administrative account in Handshake. If you don’t have an account\, please request a Handshake account in advance—event management permissions will be provisioned prior to the training (if needed). \nQuestions? Reach out to Ilsa May at ilsa.may@wisc.edu.  \n\nWhen: Friday\, December 5\, 2025 from 10:00 to 11:30 a.m. \nWhere: Virtual via Zoom | Zoom link will be sent to registered participants prior to the event \nWho: Career Services Community Members \nRegister Here by December 3\n\n\nPlease note that using the “Add to Calendar” button below will not register you for this event. Please click above to register.
URL:https://oacs.wisc.edu/event/handshake-training-event-management-attendance-tracking/
LOCATION:Virtual
CATEGORIES:For Career Services Professionals
END:VEVENT
BEGIN:VEVENT
DTSTART;TZID=America/Chicago:20251209T090000
DTEND;TZID=America/Chicago:20251209T100000
DTSTAMP:20260422T035721
CREATED:20250814T163221Z
LAST-MODIFIED:20251119T161602Z
UID:10000931-1765270800-1765274400@oacs.wisc.edu
SUMMARY:Supervisor's Community of Practice Meeting
DESCRIPTION:The Office of Academic & Career Success facilitates a monthly Supervisor’s Community of Practice for advising\, career services\, and learning support staff members who have supervisory responsibilities. Each month\, the group dives into a new topic to spark conversation\, share insights\, and build our leadership toolkits. The month’s topic will be shared with the community prior to each monthly meeting. \nWhether you’re a seasoned supervisor or just stepping into the role\, come connect\, learn\, and grow with your peers. We encourage Community of Practice members to attend as many sessions as possible—each one is a chance to recharge and reflect on your approach to leadership. \n\nWhen: Tuesday\, December 9\, 2025 from 9:00 to 10:00 am \nWhere: Morgridge Hall\, 7th floor lecture hall \nWho: Community of Practice Members \nSupervisor’s Community of Practice groups form at the beginning of each academic year. Please reach out to Emily Dickmann at emily.dickmann@wisc.edu if you’re still interested in joining the 25-26 Supervisor’s Community of Practice. \n\nPlease note that using the “Add to Calendar” button below will not register you for this event.
URL:https://oacs.wisc.edu/event/supervisors-community-of-practice-meeting-4/
LOCATION:Morgridge Hall\, 1205 University Avenue\, Madison\, WI\, 53706
CATEGORIES:For Supervisors
END:VEVENT
BEGIN:VEVENT
DTSTART;TZID=America/Chicago:20251210T083000
DTEND;TZID=America/Chicago:20251210T120000
DTSTAMP:20260422T035721
CREATED:20250814T195728Z
LAST-MODIFIED:20250923T201426Z
UID:10000946-1765355400-1765368000@oacs.wisc.edu
SUMMARY:Motivational Interviewing Training
DESCRIPTION:Motivational Interviewing (MI) is a guiding style of communication that helps people explore their own goals and move toward meaningful change. This approach sits between simply listening and actively giving advice. It’s about being collaborative\, asking thoughtful questions\, listening with empathy\, and supporting others as they make decisions that feel right for them.  \nIn this highly interactive workshop\, you will learn how Motivational Interviewing can strengthen your conversations with students\, as well as colleagues\, supervisees\, employers\, alumni\, and campus partners. The skills you develop will allow you to build trust and support others in taking their next steps with confidence. \nMotivational Interviewing is offered multiple times each semester\, view upcoming dates and times here.  \nQuestions? Reach out to info.oacs@wisc.edu. \n\nWhen: Wednesday\, December 10\, 2025 from 8:30 a.m. to 12:00 p.m. \nWhere: Memorial Union (please check “Today in the Union” for the specific room) \nWho: Advising\, Career Services\, and Learning Support Community Members \nRegister Here by December 8\n\n\nPlease note that using the “Add to Calendar” button below will not register you for this event. Please click above to register.
URL:https://oacs.wisc.edu/event/motivational-interviewing-training-december-2025/
LOCATION:Memorial Union
END:VEVENT
BEGIN:VEVENT
DTSTART;TZID=America/Chicago:20251211T140000
DTEND;TZID=America/Chicago:20251211T160000
DTSTAMP:20260422T035721
CREATED:20251112T155728Z
LAST-MODIFIED:20251112T155756Z
UID:10000984-1765461600-1765468800@oacs.wisc.edu
SUMMARY:Data Drop-ins with DAPIR
DESCRIPTION:Need some help with data? Join a Data Drop-in! \nHave a specific question or need guidance on a data-related topic? Data Drop-ins are brief\, focused sessions (5–30 minutes) designed to offer personalized support from Matt Delaney\, Student Success Analyst in DAPIR. \nWhether you’re troubleshooting a data project\, interpreting a dataset\, exploring tools\, or tackling something else entirely\, these one-on-one consultations are here to help. \nSessions are held via Zoom and scheduled based on availability. Just fill out the form below\, and you’ll receive a follow-up to confirm your session time. \nQuestions? Reach out to Matt at matt.delaney@wisc.edu. \n\nWhen: Thursday\, December 11\, 2025 from 2:00 to 4:00 p.m. \nWhere: Virtual via Zoom \nWho: Advising\, Career Services\, and Learning Support Community Members \nReserve a Drop-in Time Slot\n\n\nPlease note that using the “Add to Calendar” button below will not register you for this event. Please click above to register.
URL:https://oacs.wisc.edu/event/data-drop-ins-with-dapir-2/
LOCATION:Virtual
END:VEVENT
BEGIN:VEVENT
DTSTART;TZID=America/Chicago:20251212T090000
DTEND;TZID=America/Chicago:20251212T103000
DTSTAMP:20260422T035721
CREATED:20250814T204121Z
LAST-MODIFIED:20251201T192237Z
UID:10000954-1765530000-1765535400@oacs.wisc.edu
SUMMARY:Helping Skills and Practice: December Session
DESCRIPTION:Helping Skills and Practice is monthly series of interactive workshops designed for staff members working in advising\, career services\, and learning support\, and can be especially helpful for new community members. This workshop offers a space to strengthen foundational skills and explore key theories that inform and guide our work with students. Participants will engage in hands-on activities\, peer discussion\, and practical exercises that can be applied directly to day-to-day work. Whether you’re looking to deepen your understanding or refresh your approach\, this workshop provides a collaborative environment for growth and reflection. \n🌟 December Session Topic: Supporting students during times of academic or career-related grief\, whether it be disappointing news or navigating a failure or a change in plans with courses\, majors\, careers\, etc. \nHelping Skills and Practice is offered monthly throughout the semester\, with each session focusing on a different foundational skill and we encourage participants to register for and attend as many sessions as possible. View the additional Helping Skills and Practice session dates and register here. \nQuestions? Please reach out to info.oacs@wisc.edu. \n\nWhen: Friday\, December 12\, 2025 from 9:00 to 10:30 am \nWhere: 8417 Social Sciences \nWho: Advising\, Career Services\, and Learning Support Community Members \nRegister Here by December 10 \n\n\nPlease note that using the “Add to Calendar” button below will not register you for this event. Please click above to register.
URL:https://oacs.wisc.edu/event/helping-skills-and-practice-december-session/
LOCATION:8417 Social Sciences\, 1180 Observatory Dr
CATEGORIES:For New Staff
END:VEVENT
BEGIN:VEVENT
DTSTART;TZID=America/Chicago:20251215T080000
DTEND;TZID=America/Chicago:20251215T170000
DTSTAMP:20260422T035721
CREATED:20250909T153230Z
LAST-MODIFIED:20250909T153230Z
UID:10000969-1765785600-1765818000@oacs.wisc.edu
SUMMARY:Mental Health First Aid Training
DESCRIPTION:Note: This event is not sponsored by the Office of Academic & Career Success. We are sharing this with our communities on behalf of the organizers. \n\nMental Health First Aid is an early intervention public education program that teaches adults how to recognize the signs and symptoms that suggest a potential mental health challenge\, listen without judgement\, give reassurance to someone who may be experiencing a mental health challenge\, and refer a person to appropriate professional support and services. \nThis training is presented by Soumya Palreddy\, PhD\, and designed for UW-Madison faculty\, instructors\, advisors\, career services\, and learning support staff members. \nQuestions? Reach out to Soumya at soumya.palreddy@gmail.com. \n\nWhen: Monday\, December 15\, 2025 from 8:00 a.m. to 5:00 p.m. \nWhere: Memorial Union (please see “Today in the Union” for the exact room) \nRegister Here\n\n\nPlease note that using the “Add to Calendar” button below will not register you for this event. Please click above to register.
URL:https://oacs.wisc.edu/event/mental-health-first-aid-training-11/
LOCATION:Memorial Union
END:VEVENT
BEGIN:VEVENT
DTSTART;TZID=America/Chicago:20251216T130000
DTEND;TZID=America/Chicago:20251216T150000
DTSTAMP:20260422T035721
CREATED:20251006T192247Z
LAST-MODIFIED:20251201T192727Z
UID:10000979-1765890000-1765897200@oacs.wisc.edu
SUMMARY:Career Services Community Summit
DESCRIPTION:Join your career services colleagues from across campus for the Career Services Community Summit\, an opportunity to connect\, collaborate\, and celebrate the work of our career services community. \nThis end-of-semester gathering will feature: \n\nCampus-Wide Updates: Learn about key initiatives\, committee work\, and strategic efforts shaping career services.\nData & Technology Insights: Stay informed with updates on data and tools that support our shared work.\nOpen Dialogue: Share thoughts\, ask questions\, and offer feedback to OACS and CSEC.\nCommunity Building: Connect with colleagues\, reflect on the semester\, and celebrate our accomplishments.\n\nAll career services professionals are welcome and encouraged to attend. We look forward to seeing you there! \nQuestions? Contact Danielle at danielle.marriner@wisc.edu. \n\nWhen: Tuesday\, December 16\, 2025 from 1:00 to 3:00 p.m. \nWhere: Tripp Commons at Memorial Union \nWho: Career Services Community Members \nRegister Here by December 9 \n\nPlease note that using the “Add to Calendar” button below will not register you for this event. Please click above to register.
URL:https://oacs.wisc.edu/event/career-services-community-summit-4/
LOCATION:Tripp Commons\, 800 Langdon St.\, Madison\, WI\, 53706\, United States
CATEGORIES:For Career Services Professionals
END:VEVENT
BEGIN:VEVENT
DTSTART;TZID=America/Chicago:20251218T120000
DTEND;TZID=America/Chicago:20251218T133000
DTSTAMP:20260422T035721
CREATED:20251203T202923Z
LAST-MODIFIED:20251203T202959Z
UID:10000985-1766059200-1766064600@oacs.wisc.edu
SUMMARY:🎉 Advisor End-of-Semester Trivia
DESCRIPTION:You’re invited to join OACS and your advising colleagues as we wrap up the semester with a fun and festive trivia gathering! This is a chance to come together and celebrate all the hard work we’ve accomplished throughout the semester. Whether you’re ready to show off your trivia skills or just want to enjoy good company\, this gathering is all about being in community as we wrap up the semester. If you’d like to join trivia\, teams of 2 to 4 will be formed during the event. \nWe invite you to bring your own lunch. Warm beverages and treats will be provided! \nQuestions? Contact Kala at kala.grove@wisc.edu. \n\nWhen: Thursday\, December 18\, 2025 from 12:00 to 1:30 p.m. (trivia will begin at 12:15 p.m.) \nWhere: School of Human Ecology\, Room 2235 \nWho: Advising Community Members \nRegister Here by December 16\n\n\nPlease note that using the “Add to Calendar” button below will not register you for this event. Please click above to register.
URL:https://oacs.wisc.edu/event/advisor-end-of-semester-trivia/
LOCATION:School of Human Ecology
CATEGORIES:For Advisors
END:VEVENT
END:VCALENDAR