BEGIN:VCALENDAR
VERSION:2.0
PRODID:-//Office of Academic &amp; Career Success - ECPv6.15.20//NONSGML v1.0//EN
CALSCALE:GREGORIAN
METHOD:PUBLISH
X-WR-CALNAME:Office of Academic &amp; Career Success
X-ORIGINAL-URL:https://oacs.wisc.edu
X-WR-CALDESC:Events for Office of Academic &amp; Career Success
REFRESH-INTERVAL;VALUE=DURATION:PT1H
X-Robots-Tag:noindex
X-PUBLISHED-TTL:PT1H
BEGIN:VTIMEZONE
TZID:America/Chicago
BEGIN:DAYLIGHT
TZOFFSETFROM:-0600
TZOFFSETTO:-0500
TZNAME:CDT
DTSTART:20240310T080000
END:DAYLIGHT
BEGIN:STANDARD
TZOFFSETFROM:-0500
TZOFFSETTO:-0600
TZNAME:CST
DTSTART:20241103T070000
END:STANDARD
BEGIN:DAYLIGHT
TZOFFSETFROM:-0600
TZOFFSETTO:-0500
TZNAME:CDT
DTSTART:20250309T080000
END:DAYLIGHT
BEGIN:STANDARD
TZOFFSETFROM:-0500
TZOFFSETTO:-0600
TZNAME:CST
DTSTART:20251102T070000
END:STANDARD
BEGIN:DAYLIGHT
TZOFFSETFROM:-0600
TZOFFSETTO:-0500
TZNAME:CDT
DTSTART:20260308T080000
END:DAYLIGHT
BEGIN:STANDARD
TZOFFSETFROM:-0500
TZOFFSETTO:-0600
TZNAME:CST
DTSTART:20261101T070000
END:STANDARD
END:VTIMEZONE
BEGIN:VEVENT
DTSTART;TZID=America/Chicago:20251215T080000
DTEND;TZID=America/Chicago:20251215T170000
DTSTAMP:20260421T173414
CREATED:20250909T153230Z
LAST-MODIFIED:20250909T153230Z
UID:10000969-1765785600-1765818000@oacs.wisc.edu
SUMMARY:Mental Health First Aid Training
DESCRIPTION:Note: This event is not sponsored by the Office of Academic & Career Success. We are sharing this with our communities on behalf of the organizers. \n\nMental Health First Aid is an early intervention public education program that teaches adults how to recognize the signs and symptoms that suggest a potential mental health challenge\, listen without judgement\, give reassurance to someone who may be experiencing a mental health challenge\, and refer a person to appropriate professional support and services. \nThis training is presented by Soumya Palreddy\, PhD\, and designed for UW-Madison faculty\, instructors\, advisors\, career services\, and learning support staff members. \nQuestions? Reach out to Soumya at soumya.palreddy@gmail.com. \n\nWhen: Monday\, December 15\, 2025 from 8:00 a.m. to 5:00 p.m. \nWhere: Memorial Union (please see “Today in the Union” for the exact room) \nRegister Here\n\n\nPlease note that using the “Add to Calendar” button below will not register you for this event. Please click above to register.
URL:https://oacs.wisc.edu/event/mental-health-first-aid-training-11/
LOCATION:Memorial Union
END:VEVENT
END:VCALENDAR