BEGIN:VCALENDAR
VERSION:2.0
PRODID:-//Office of Academic &amp; Career Success - ECPv6.15.20//NONSGML v1.0//EN
CALSCALE:GREGORIAN
METHOD:PUBLISH
X-ORIGINAL-URL:https://oacs.wisc.edu
X-WR-CALDESC:Events for Office of Academic &amp; Career Success
REFRESH-INTERVAL;VALUE=DURATION:PT1H
X-Robots-Tag:noindex
X-PUBLISHED-TTL:PT1H
BEGIN:VTIMEZONE
TZID:America/Chicago
BEGIN:DAYLIGHT
TZOFFSETFROM:-0600
TZOFFSETTO:-0500
TZNAME:CDT
DTSTART:20240310T080000
END:DAYLIGHT
BEGIN:STANDARD
TZOFFSETFROM:-0500
TZOFFSETTO:-0600
TZNAME:CST
DTSTART:20241103T070000
END:STANDARD
BEGIN:DAYLIGHT
TZOFFSETFROM:-0600
TZOFFSETTO:-0500
TZNAME:CDT
DTSTART:20250309T080000
END:DAYLIGHT
BEGIN:STANDARD
TZOFFSETFROM:-0500
TZOFFSETTO:-0600
TZNAME:CST
DTSTART:20251102T070000
END:STANDARD
BEGIN:DAYLIGHT
TZOFFSETFROM:-0600
TZOFFSETTO:-0500
TZNAME:CDT
DTSTART:20260308T080000
END:DAYLIGHT
BEGIN:STANDARD
TZOFFSETFROM:-0500
TZOFFSETTO:-0600
TZNAME:CST
DTSTART:20261101T070000
END:STANDARD
END:VTIMEZONE
BEGIN:VEVENT
DTSTART;TZID=America/Chicago:20250114T080000
DTEND;TZID=America/Chicago:20250114T170000
DTSTAMP:20260422T125601
CREATED:20241018T185122Z
LAST-MODIFIED:20241018T185153Z
UID:10000877-1736841600-1736874000@oacs.wisc.edu
SUMMARY:Mental Health First Aid Training
DESCRIPTION:Mental Health First Aid is an early intervention public education program that teaches adults how to recognize the signs and symptoms that suggest a potential mental health challenge\, listen non-judgmentally\, give reassurance to someone who may be experiencing a mental health challenge\, and refer a person to appropriate professional support and services. This course is designed to teach people how to approach\, assess\, and assist someone who may be experiencing early signs and symptoms of a mental health challenge\, worsening signs and symptoms\, or who may be experiencing a crisis. \nThis training is presented by Soumya Palreddy\, PhD\, and designed for the teaching and learning community at UW-Madison including faculty\, instructors\, advisors\, career services\, and learning support staff members. \nWhen: Tuesday\, January 14\, 2025 from 8:00 am to 5:00 pm \nWhere: Memorial Union (please see “Today in the Union” for the exact room) \nWho: Faculty\, instructors\, advisors\, career services\, and learning support staff members \nREGISTER HERE!\nQuestions? Please contact Soumya at soumya.palreddy@gmail.com. \n\n\n\nPlease note that using the “Add to Calendar” button below will not register you for this event. Please click the link above to register.
URL:https://oacs.wisc.edu/event/mental-health-first-aid-training-3/
LOCATION:Memorial Union
END:VEVENT
BEGIN:VEVENT
DTSTART;TZID=America/Chicago:20250115T080000
DTEND;TZID=America/Chicago:20250115T170000
DTSTAMP:20260422T125601
CREATED:20241018T185226Z
LAST-MODIFIED:20241018T185226Z
UID:10000878-1736928000-1736960400@oacs.wisc.edu
SUMMARY:Mental Health First Aid Training
DESCRIPTION:Mental Health First Aid is an early intervention public education program that teaches adults how to recognize the signs and symptoms that suggest a potential mental health challenge\, listen non-judgmentally\, give reassurance to someone who may be experiencing a mental health challenge\, and refer a person to appropriate professional support and services. This course is designed to teach people how to approach\, assess\, and assist someone who may be experiencing early signs and symptoms of a mental health challenge\, worsening signs and symptoms\, or who may be experiencing a crisis. \nThis training is presented by Soumya Palreddy\, PhD\, and designed for the teaching and learning community at UW-Madison including faculty\, instructors\, advisors\, career services\, and learning support staff members. \nWhen: Wednesday\, January 15\, 2025 from 8:00 am to 5:00 pm \nWhere: Memorial Union (please see “Today in the Union” for the exact room) \nWho: Faculty\, instructors\, advisors\, career services\, and learning support staff members \nREGISTER HERE!\nQuestions? Please contact Soumya at soumya.palreddy@gmail.com. \n\n\n\nPlease note that using the “Add to Calendar” button below will not register you for this event. Please click the link above to register.
URL:https://oacs.wisc.edu/event/mental-health-first-aid-training-4/
LOCATION:Memorial Union
END:VEVENT
END:VCALENDAR