BEGIN:VCALENDAR
VERSION:2.0
PRODID:-//Office of Academic &amp; Career Success - ECPv6.15.20//NONSGML v1.0//EN
CALSCALE:GREGORIAN
METHOD:PUBLISH
X-ORIGINAL-URL:https://oacs.wisc.edu
X-WR-CALDESC:Events for Office of Academic &amp; Career Success
REFRESH-INTERVAL;VALUE=DURATION:PT1H
X-Robots-Tag:noindex
X-PUBLISHED-TTL:PT1H
BEGIN:VTIMEZONE
TZID:America/Chicago
BEGIN:DAYLIGHT
TZOFFSETFROM:-0600
TZOFFSETTO:-0500
TZNAME:CDT
DTSTART:20230312T080000
END:DAYLIGHT
BEGIN:STANDARD
TZOFFSETFROM:-0500
TZOFFSETTO:-0600
TZNAME:CST
DTSTART:20231105T070000
END:STANDARD
BEGIN:DAYLIGHT
TZOFFSETFROM:-0600
TZOFFSETTO:-0500
TZNAME:CDT
DTSTART:20240310T080000
END:DAYLIGHT
BEGIN:STANDARD
TZOFFSETFROM:-0500
TZOFFSETTO:-0600
TZNAME:CST
DTSTART:20241103T070000
END:STANDARD
BEGIN:DAYLIGHT
TZOFFSETFROM:-0600
TZOFFSETTO:-0500
TZNAME:CDT
DTSTART:20250309T080000
END:DAYLIGHT
BEGIN:STANDARD
TZOFFSETFROM:-0500
TZOFFSETTO:-0600
TZNAME:CST
DTSTART:20251102T070000
END:STANDARD
END:VTIMEZONE
BEGIN:VEVENT
DTSTART;TZID=America/Chicago:20241011T090000
DTEND;TZID=America/Chicago:20241011T103000
DTSTAMP:20260425T111718
CREATED:20240821T195446Z
LAST-MODIFIED:20240916T143514Z
UID:10000811-1728637200-1728642600@oacs.wisc.edu
SUMMARY:Helping Skills and Practice: Session 1
DESCRIPTION:Helping Skills and Practice is a workshop-style series intended for new and new-ish advising\, career services\, and learning support staff members. Through the events in this series\, we will reflect on core skills and a variety of theories that impact and guide our work with students. A specific meeting topic will be shared closer to each session date on this calendar and directly with those already registered. \nWhen: Friday\, October 11\, 2024 from 9:00 to 10:30 am \nWhere: Memorial Union (please check “Today in the Union” for the specific room) \nWho: New and New-ish Advising\, Career Services\, and Learning Support Staff Members \nREGISTER HERE!\nPlease Note: Helping Skills and Practice is designed as a series and we encourage you to participate in as many sessions as possible. When you register for this event\, you will be registered for the entire series and will receive reminders prior to each session. This does not mean that you must attend each event after registering for the series. Please attend those that work with your schedule. You are welcome to register at any time (space allowing) even if you missed earlier sessions.  \n—————————————————————————– \n\nPlease note that using the “Add to Calendar” button below will not register you for this event. Please click the link above to register.
URL:https://oacs.wisc.edu/event/helping-skills-and-practice-2/
LOCATION:Memorial Union
CATEGORIES:For New Staff
END:VEVENT
END:VCALENDAR