BEGIN:VCALENDAR
VERSION:2.0
PRODID:-//Office of Academic &amp; Career Success - ECPv6.15.20//NONSGML v1.0//EN
CALSCALE:GREGORIAN
METHOD:PUBLISH
X-WR-CALNAME:Office of Academic &amp; Career Success
X-ORIGINAL-URL:https://oacs.wisc.edu
X-WR-CALDESC:Events for Office of Academic &amp; Career Success
REFRESH-INTERVAL;VALUE=DURATION:PT1H
X-Robots-Tag:noindex
X-PUBLISHED-TTL:PT1H
BEGIN:VTIMEZONE
TZID:America/Chicago
BEGIN:DAYLIGHT
TZOFFSETFROM:-0600
TZOFFSETTO:-0500
TZNAME:CDT
DTSTART:20230312T080000
END:DAYLIGHT
BEGIN:STANDARD
TZOFFSETFROM:-0500
TZOFFSETTO:-0600
TZNAME:CST
DTSTART:20231105T070000
END:STANDARD
BEGIN:DAYLIGHT
TZOFFSETFROM:-0600
TZOFFSETTO:-0500
TZNAME:CDT
DTSTART:20240310T080000
END:DAYLIGHT
BEGIN:STANDARD
TZOFFSETFROM:-0500
TZOFFSETTO:-0600
TZNAME:CST
DTSTART:20241103T070000
END:STANDARD
BEGIN:DAYLIGHT
TZOFFSETFROM:-0600
TZOFFSETTO:-0500
TZNAME:CDT
DTSTART:20250309T080000
END:DAYLIGHT
BEGIN:STANDARD
TZOFFSETFROM:-0500
TZOFFSETTO:-0600
TZNAME:CST
DTSTART:20251102T070000
END:STANDARD
END:VTIMEZONE
BEGIN:VEVENT
DTSTART;TZID=America/Chicago:20241010T080000
DTEND;TZID=America/Chicago:20241010T120000
DTSTAMP:20260421T123316
CREATED:20240920T164807Z
LAST-MODIFIED:20240920T165354Z
UID:10000860-1728547200-1728561600@oacs.wisc.edu
SUMMARY:Mental Health First Aid Training: Morning Session Day 2
DESCRIPTION:Mental Health First Aid is an early intervention public education program that teaches adults how to recognize the signs and symptoms that suggest a potential mental health challenge\, listen non-judgmentally\, give reassurance to someone who may be experiencing a mental health challenge\, and refer a person to appropriate professional support and services. This course is designed to teach people how to approach\, assess\, and assist someone who may be experiencing early signs and symptoms of a mental health challenge\, worsening signs and symptoms\, or who may be experiencing a crisis. \nThis training is presented by Soumya Palreddy\, PhD\, and designed for UW-Madison Division of Teaching & Learning community members including faculty\, instructors\, advisors\, career services\, and learning support staff members. \nWhen: Wednesday\, October 9 and Thursday\, October 10 from 8:00 am to 12:00 pm (note: this training consists of two ½ day sessions – please register for both days) \nWhere: Memorial Union (please check “Today in the Union” for the exact room) \nWho: Faculty\, instructors\, advisors\, career services\, and learning support staff members \nREGISTER HERE!\nQuestions? Please contact Soumya at soumya.palreddy@gmail.com. \n\n\n\nPlease note that using the “Add to Calendar” button below will not register you for this event. Please click the link above to register.
URL:https://oacs.wisc.edu/event/mental-health-first-aid-training-morning-session-day-2/
LOCATION:Memorial Union
END:VEVENT
BEGIN:VEVENT
DTSTART;TZID=America/Chicago:20241009T124500
DTEND;TZID=America/Chicago:20241009T170000
DTSTAMP:20260421T123316
CREATED:20240920T164931Z
LAST-MODIFIED:20240920T165640Z
UID:10000861-1728477900-1728493200@oacs.wisc.edu
SUMMARY:Mental Health First Aid Training: Afternoon Session Day 1
DESCRIPTION:Mental Health First Aid is an early intervention public education program that teaches adults how to recognize the signs and symptoms that suggest a potential mental health challenge\, listen non-judgmentally\, give reassurance to someone who may be experiencing a mental health challenge\, and refer a person to appropriate professional support and services. This course is designed to teach people how to approach\, assess\, and assist someone who may be experiencing early signs and symptoms of a mental health challenge\, worsening signs and symptoms\, or who may be experiencing a crisis. \nThis training is presented by Soumya Palreddy\, PhD\, and designed for UW-Madison Division of Teaching & Learning community members including faculty\, instructors\, advisors\, career services\, and learning support staff members. \nWhen: Wednesday\, October 9 and Thursday\, October 10 from 12:45 to 5:00 pm (note: this training consists of two ½ day sessions – please register for both days) \nWhere: Memorial Union (please check “Today in the Union” for the exact room) \nWho: Faculty\, instructors\, advisors\, career services\, and learning support staff members \nREGISTER HERE!\nQuestions? Please contact Soumya at soumya.palreddy@gmail.com. \n\n\n\nPlease note that using the “Add to Calendar” button below will not register you for this event. Please click the link above to register.
URL:https://oacs.wisc.edu/event/mental-health-first-aid-training-afternoon-session-day-1/
LOCATION:Memorial Union
END:VEVENT
BEGIN:VEVENT
DTSTART;TZID=America/Chicago:20241009T080000
DTEND;TZID=America/Chicago:20241009T120000
DTSTAMP:20260421T123316
CREATED:20240920T164417Z
LAST-MODIFIED:20240920T165326Z
UID:10000859-1728460800-1728475200@oacs.wisc.edu
SUMMARY:Mental Health First Aid Training: Morning Session Day 1
DESCRIPTION:Mental Health First Aid is an early intervention public education program that teaches adults how to recognize the signs and symptoms that suggest a potential mental health challenge\, listen non-judgmentally\, give reassurance to someone who may be experiencing a mental health challenge\, and refer a person to appropriate professional support and services. This course is designed to teach people how to approach\, assess\, and assist someone who may be experiencing early signs and symptoms of a mental health challenge\, worsening signs and symptoms\, or who may be experiencing a crisis. \nThis training is presented by Soumya Palreddy\, PhD\, and designed for UW-Madison Division of Teaching & Learning community members including faculty\, instructors\, advisors\, career services\, and learning support staff members. \nWhen: Wednesday\, October 9 and Thursday\, October 10 from 8:00 am to 12:00 pm (note: this training consists of two ½ day sessions – please register for both days) \nWhere: Memorial Union (please check “Today in the Union” for the exact room) \nWho: Faculty\, instructors\, advisors\, career services\, and learning support staff members \nREGISTER HERE!\nQuestions? Please contact Soumya at soumya.palreddy@gmail.com. \n\n\n\nPlease note that using the “Add to Calendar” button below will not register you for this event. Please click the link above to register.
URL:https://oacs.wisc.edu/event/mental-health-first-aid-training-morning-session-day-1/
LOCATION:Memorial Union
END:VEVENT
END:VCALENDAR