BEGIN:VCALENDAR
VERSION:2.0
PRODID:-//Office of Academic &amp; Career Success - ECPv6.15.20//NONSGML v1.0//EN
CALSCALE:GREGORIAN
METHOD:PUBLISH
X-WR-CALNAME:Office of Academic &amp; Career Success
X-ORIGINAL-URL:https://oacs.wisc.edu
X-WR-CALDESC:Events for Office of Academic &amp; Career Success
REFRESH-INTERVAL;VALUE=DURATION:PT1H
X-Robots-Tag:noindex
X-PUBLISHED-TTL:PT1H
BEGIN:VTIMEZONE
TZID:America/Chicago
BEGIN:DAYLIGHT
TZOFFSETFROM:-0600
TZOFFSETTO:-0500
TZNAME:CDT
DTSTART:20230312T080000
END:DAYLIGHT
BEGIN:STANDARD
TZOFFSETFROM:-0500
TZOFFSETTO:-0600
TZNAME:CST
DTSTART:20231105T070000
END:STANDARD
BEGIN:DAYLIGHT
TZOFFSETFROM:-0600
TZOFFSETTO:-0500
TZNAME:CDT
DTSTART:20240310T080000
END:DAYLIGHT
BEGIN:STANDARD
TZOFFSETFROM:-0500
TZOFFSETTO:-0600
TZNAME:CST
DTSTART:20241103T070000
END:STANDARD
BEGIN:DAYLIGHT
TZOFFSETFROM:-0600
TZOFFSETTO:-0500
TZNAME:CDT
DTSTART:20250309T080000
END:DAYLIGHT
BEGIN:STANDARD
TZOFFSETFROM:-0500
TZOFFSETTO:-0600
TZNAME:CST
DTSTART:20251102T070000
END:STANDARD
BEGIN:DAYLIGHT
TZOFFSETFROM:-0600
TZOFFSETTO:-0500
TZNAME:CDT
DTSTART:20260308T080000
END:DAYLIGHT
BEGIN:STANDARD
TZOFFSETFROM:-0500
TZOFFSETTO:-0600
TZNAME:CST
DTSTART:20261101T070000
END:STANDARD
END:VTIMEZONE
BEGIN:VEVENT
DTSTART;TZID=America/Chicago:20241105T133000
DTEND;TZID=America/Chicago:20241105T144500
DTSTAMP:20260425T093308
CREATED:20240822T191321Z
LAST-MODIFIED:20241024T203805Z
UID:10000850-1730813400-1730817900@oacs.wisc.edu
SUMMARY:Campus Resources and Referrals Session 2
DESCRIPTION:Campus Resources & Referrals is an event series focused on holistic student support and well-being for advising\, career services\, and learning support community members. Participants will engage in community building and professional development by connecting with key UW-Madison resources and offices\, learning when and how to refer students across campus. Each monthly session will include a facilitator from offices such as the Office of Student Assistance and Support\, University Health Services\, McBurney Disability Resource Center\, and more. The specific resource or office facilitator will be shared closer to each session date. \nWhen you fill out the registration form below\, you will receive information and reminders for all sessions of Campus Resources & Referrals. This does not mean that you must attend each event after registering for the series; please attend those that work with your schedule. You are welcome to sign up at any point even if you’ve missed previous sessions! \n\nMonthly Topic: University Health Services \nWhen: Tuesday\, November 5 from 1:30 to 2:45 pm \nWhere: Memorial Union (Please check “Today in the Union” for the specific room) \nWho: Advising\, Career Services\, and Learning Support Community Members (new and experienced!) \nREGISTER HERE!\nQuestions? Contact Kim Mueller at kim.mueller@wisc.edu. \n\n\nPlease note that using the “Add to Calendar” button below will not register you for this event. Please click the link above to register.
URL:https://oacs.wisc.edu/event/campus-resources-and-referrals-session-2/
LOCATION:Memorial Union
CATEGORIES:For New Staff
END:VEVENT
BEGIN:VEVENT
DTSTART;TZID=America/Chicago:20241203T133000
DTEND;TZID=America/Chicago:20241203T144500
DTSTAMP:20260425T093308
CREATED:20240822T191412Z
LAST-MODIFIED:20241028T215107Z
UID:10000851-1733232600-1733237100@oacs.wisc.edu
SUMMARY:Campus Resources and Referrals Session 3
DESCRIPTION:Campus Resources & Referrals is an event series focused on holistic student support and well-being for advising\, career services\, and learning support community members. Participants will engage in community building and professional development by connecting with key UW-Madison resources and offices\, learning when and how to refer students across campus. Each monthly session will include a facilitator from offices such as the Office of Student Assistance and Support\, University Health Services\, McBurney Disability Resource Center\, and more. The specific resource/office facilitator will be shared closer to each session date. \nWhen you fill out the registration form below\, you will receive information and reminders for all sessions of Campus Resources & Referrals. This does not mean that you must attend each event after registering for the series; please attend those that work with your schedule. You are welcome to sign up at any point even if you’ve missed previous sessions! \nQuestions? Contact Kim Mueller at kim.mueller@wisc.edu. \n\nMonthly Topic: McBurney Disability Resource Center \nWhen: Tuesday\, December 3 from 1:30 to 2:45 pm \nWhere: Memorial Union (Please check “Today in the Union” for the specific room) \nWho: Advising\, Career Services\, and Learning Support Community Members (new and experienced!) \nREGISTER HERE!\n\n\nPlease note that using the “Add to Calendar” button below will not register you for this event. Please click the link above to register.
URL:https://oacs.wisc.edu/event/campus-resources-and-referrals-session-3/
LOCATION:Memorial Union
CATEGORIES:For New Staff
END:VEVENT
BEGIN:VEVENT
DTSTART;TZID=America/Chicago:20250204T133000
DTEND;TZID=America/Chicago:20250204T144500
DTSTAMP:20260425T093308
CREATED:20240822T191449Z
LAST-MODIFIED:20250117T181926Z
UID:10000852-1738675800-1738680300@oacs.wisc.edu
SUMMARY:Campus Resources and Referrals Session 4
DESCRIPTION:Campus Resources & Referrals is an event series focused on holistic student support and well-being for new and new-ish advising\, career services\, and learning support community members. Participants will engage in community building and professional development by connecting with key UW-Madison resources and offices\, learning when and how to refer students across campus. Each monthly session will include a facilitator from offices such as the Office of Student Assistance and Support\, University Health Services\, McBurney Disability Resource Center\, and more.  \nCampus Resources and Referrals is designed as a series and we encourage you to participate in as many sessions as possible. When you fill out the registration form below\, you will receive information and reminders for all sessions of Campus Resources & Referrals. This does not mean that you must attend each event after registering for the series. Please attend those that work with your schedule. You are welcome to sign up at any point even if you’ve missed previous sessions! \nQuestions? Contact Kim Mueller at kim.mueller@wisc.edu. \n\nFebruary Session Focus: International Student Services \nWhen: Tuesday\, February 4\, 2025 from 1:30 to 2:45 pm \nWhere: Memorial Union (Please check “Today in the Union” for the specific room) \nWho: New and New-ish Advising\, Career Services\, and Learning Support Community Members \nRegister Here!\n\n\nPlease note that using the “Add to Calendar” button below will not register you for this event. Please click the link above to register.
URL:https://oacs.wisc.edu/event/campus-resources-and-referrals-session-4/
LOCATION:Memorial Union
CATEGORIES:For New Staff
END:VEVENT
BEGIN:VEVENT
DTSTART;TZID=America/Chicago:20250304T133000
DTEND;TZID=America/Chicago:20250304T144500
DTSTAMP:20260425T093308
CREATED:20240822T191531Z
LAST-MODIFIED:20250218T230829Z
UID:10000853-1741095000-1741099500@oacs.wisc.edu
SUMMARY:Campus Resources and Referrals Session: Office of Student Financial Aid
DESCRIPTION:Campus Resources & Referrals is an event series focused on holistic student support and well-being for new and new-ish advising\, career services\, and learning support community members. Participants will engage in community building and professional development by connecting with key UW-Madison resources and offices\, learning when and how to refer students across campus. Each monthly session will include a facilitator from offices such as the Office of Student Assistance and Support\, University Health Services\, McBurney Disability Resource Center\, and more.  \nCampus Resources and Referrals is designed as a series and we encourage you to participate in as many sessions as possible. When you fill out the registration form below\, you will receive information and reminders for all sessions of Campus Resources & Referrals. This does not mean that you must attend each event after registering for the series. Please attend those that work with your schedule. You are welcome to sign up at any point even if you’ve missed previous sessions! \nQuestions? Contact Kim Mueller at kim.mueller@wisc.edu. \n\nMarch Session Focus: Office of Student Financial Aid \nWhen: Tuesday\, March 4 from 1:30 to 2:45 pm \nWhere: Memorial Union (Please check “Today in the Union” for the specific room) \nWho: New and New-ish Advising\, Career Services\, and Learning Support Community Members \nRegister Here!\n\n\nPlease note that using the “Add to Calendar” button below will not register you for this event. Please click the link above to register.
URL:https://oacs.wisc.edu/event/campus-resources-and-referrals-session-5/
LOCATION:Memorial Union
CATEGORIES:For New Staff
END:VEVENT
BEGIN:VEVENT
DTSTART;TZID=America/Chicago:20250401T133000
DTEND;TZID=America/Chicago:20250401T144500
DTSTAMP:20260425T093308
CREATED:20240822T191601Z
LAST-MODIFIED:20250314T173632Z
UID:10000854-1743514200-1743518700@oacs.wisc.edu
SUMMARY:Campus Resources and Referrals: Rec Well
DESCRIPTION:Campus Resources & Referrals is an event series focused on holistic student support and well-being for new and new-ish advising\, career services\, and learning support community members. Participants will engage in community building and professional development by connecting with key UW-Madison resources and offices\, learning when and how to refer students across campus. Each monthly session will include a facilitator from offices such as the Office of Student Assistance and Support\, University Health Services\, McBurney Disability Resource Center\, and more.  \nCampus Resources and Referrals is designed as a series and we encourage you to participate in as many sessions as possible. When you fill out the registration form below\, you will receive information and reminders for all sessions of Campus Resources & Referrals. This does not mean that you must attend each event after registering for the series. Please attend those that work with your schedule. You are welcome to sign up at any point even if you’ve missed previous sessions! \nQuestions? Contact Kim Mueller at kim.mueller@wisc.edu. \n\nApril Session Focus: University Recreation & Wellbeing (Rec Well) \nWhen: Tuesday\, April 1\, 2025 from 1:30 to 2:45 pm \nWhere: Memorial Union (Please check “Today in the Union” for the specific room) \nWho: New and New-ish Advising\, Career Services\, and Learning Support Community Members \nRegister Here!\n\n\nPlease note that using the “Add to Calendar” button below will not register you for this event. Please click the link above to register.
URL:https://oacs.wisc.edu/event/campus-resources-and-referrals-session-6/
LOCATION:Memorial Union
CATEGORIES:For New Staff
END:VEVENT
BEGIN:VEVENT
DTSTART;TZID=America/Chicago:20250506T133000
DTEND;TZID=America/Chicago:20250506T144500
DTSTAMP:20260425T093308
CREATED:20240822T191631Z
LAST-MODIFIED:20250416T160649Z
UID:10000855-1746538200-1746542700@oacs.wisc.edu
SUMMARY:Campus Resources and Referrals: Center for Leadership & Involvement
DESCRIPTION:Campus Resources & Referrals is an event series focused on holistic student support and well-being for new and new-ish advising\, career services\, and learning support community members. \nParticipants will engage in community building and professional development by connecting with key UW-Madison resources and offices\, learning when and how to refer students across campus. Each monthly session will include a facilitator from offices such as the Office of Student Assistance and Support\, University Health Services\, McBurney Disability Resource Center\, and more. The specific resource/office facilitator will be shared closer to each session date. \nQuestions? Contact Kim Mueller at kim.mueller@wisc.edu. \n\nMeeting Topic: Center for Leadership & Involvement \nWhen: Tuesday\, May 6 from 1:30 to 2:45 pm \nWhere: Memorial Union (Please check “Today in the Union” for the specific room) \nWho: New and New-ish Advising\, Career Services\, and Learning Support Community Members \nRegister Here \n\n\nPlease note that using the “Add to Calendar” button below will not register you for this event. Please click the link above to register.
URL:https://oacs.wisc.edu/event/campus-resources-and-referrals-session-7/
LOCATION:Memorial Union
CATEGORIES:For New Staff
END:VEVENT
BEGIN:VEVENT
DTSTART;TZID=America/Chicago:20251007T130000
DTEND;TZID=America/Chicago:20251007T141500
DTSTAMP:20260425T093308
CREATED:20250814T185242Z
LAST-MODIFIED:20250917T195551Z
UID:10000938-1759842000-1759846500@oacs.wisc.edu
SUMMARY:Campus Resources and Referrals: Office of Student Assistance & Support
DESCRIPTION:Campus Resources and Referrals is your monthly backstage pass to UW–Madison’s student support network—perfect for new staff in advising\, career services\, and learning support\, but open to everyone in our communities! Each session brings you face-to-face with key campus office staff—from University Health Services to the McBurney Center—who’ll share tips on how and when to refer students for the assistance they need. It’s a great way to build your campus know-how\, grow your professional network\, and learn the best ways to support students holistically. \n🌟 October Session Topic: Office of Student Assistance & Support (OSAS) \nOSAS is a central resource for students navigating personal\, academic\, or health-related challenges. Staff can help with issues ranging from food insecurity and housing instability to mental health concerns and academic difficulties. Come learn more about when and how to refer a student to the Office of Student Assistance and Support. \nQuestions? Contact Kim Mueller at kim.mueller@wisc.edu. \n\nWhen: Tuesday\, October 7\, 2025 from 1:00 to 2:15 p.m. \nWhere: Memorial Union (Please check “Today in the Union” for the specific room) \nWho: Advising\, Career Services\, and Learning Support Community Members \nRegister Here by October 5 \n\n\nPlease note that using the “Add to Calendar” button below will not register you for this event. Please click above to register.
URL:https://oacs.wisc.edu/event/campus-resources-and-referrals-2/
LOCATION:Memorial Union
CATEGORIES:For New Staff
END:VEVENT
BEGIN:VEVENT
DTSTART;TZID=America/Chicago:20251104T130000
DTEND;TZID=America/Chicago:20251104T141500
DTSTAMP:20260425T093308
CREATED:20250814T192236Z
LAST-MODIFIED:20250917T194042Z
UID:10000942-1762261200-1762265700@oacs.wisc.edu
SUMMARY:Campus Resources and Referrals: Learning Support
DESCRIPTION:Campus Resources and Referrals is your monthly backstage pass to UW–Madison’s student support network—perfect for new staff in advising\, career services\, and learning support\, but open to everyone in our communities! Each Resources and Referrals session brings you face-to-face with key campus office staff—from University Health Services to the McBurney Center—who’ll share tips on how and when to refer students for the assistance they need. It’s a great way to build your campus know-how\, grow your professional network\, and learn the best ways to support students holistically. \n🌟 November Session Topic: Learning Support at UW-Madison \nLearning Support at UW–Madison offers free academic assistance to students through a network of learning centers across campus. Services include drop-in tutoring\, small group sessions\, peer study groups\, and study skills workshops. Attend this session to get more insight into campus learning centers and how to refer students to Learning Support for academic assistance on campus! \nQuestions? Contact Kim Mueller at kim.mueller@wisc.edu. \n\nWhen: Tuesday\, November 4\, 2025 from 1:00 to 2:15 p.m. \nWhere: Memorial Union (Please check “Today in the Union” for the specific room) \nWho: Advising\, Career Services\, and Learning Support Community Members \nRegister Here by November 2 \n\n\nPlease note that using the “Add to Calendar” button below will not register you for this event. Please click above to register.
URL:https://oacs.wisc.edu/event/campus-resources-and-referrals-november-session/
LOCATION:Memorial Union
CATEGORIES:For New Staff
END:VEVENT
BEGIN:VEVENT
DTSTART;TZID=America/Chicago:20251202T130000
DTEND;TZID=America/Chicago:20251202T141500
DTSTAMP:20260425T093308
CREATED:20250814T192823Z
LAST-MODIFIED:20251202T174211Z
UID:10000943-1764680400-1764684900@oacs.wisc.edu
SUMMARY:Campus Resources and Referrals: McBurney Disability Resource Center
DESCRIPTION:Campus Resources and Referrals is your monthly backstage pass to UW–Madison’s student support network—perfect for new staff in advising\, career services\, and learning support\, but open to everyone in our communities! Each session brings you face-to-face with key campus office staff—from University Health Services to the McBurney Center—who’ll share tips on how and when to refer students for the assistance they need. It’s a great way to build your campus know-how\, grow your professional network\, and learn the best ways to support students holistically. \n🌟 December Session Topic: McBurney Disability Resource Center \nThe McBurney Disability Resource Center is UW-Madison’s resource for disability-related student accommodations. McBurney staff work to ensure all students have equitable access to their educational experience\, regardless of their disability status. Join us this month to learn more about when and how to refer a student to the McBurney Disability Resource Center! \nQuestions? Contact Kim Mueller at kim.mueller@wisc.edu. \n\nWhen: Tuesday\, December 2\, 2025 from 1:00 to 2:15 p.m. \nWhere: Memorial Union (Please check “Today in the Union” for the specific room) \nWho: Advising\, Career Services\, and Learning Support Community Members \nRegister Here by November 31 \n\n\nPlease note that using the “Add to Calendar” button below will not register you for this event. Please click above to register.
URL:https://oacs.wisc.edu/event/campus-resources-and-referrals-december-session/
LOCATION:Memorial Union
CATEGORIES:For New Staff
END:VEVENT
END:VCALENDAR