BEGIN:VCALENDAR
VERSION:2.0
PRODID:-//Office of Academic &amp; Career Success - ECPv6.15.20//NONSGML v1.0//EN
CALSCALE:GREGORIAN
METHOD:PUBLISH
X-ORIGINAL-URL:https://oacs.wisc.edu
X-WR-CALDESC:Events for Office of Academic &amp; Career Success
REFRESH-INTERVAL;VALUE=DURATION:PT1H
X-Robots-Tag:noindex
X-PUBLISHED-TTL:PT1H
BEGIN:VTIMEZONE
TZID:America/Chicago
BEGIN:DAYLIGHT
TZOFFSETFROM:-0600
TZOFFSETTO:-0500
TZNAME:CDT
DTSTART:20240310T080000
END:DAYLIGHT
BEGIN:STANDARD
TZOFFSETFROM:-0500
TZOFFSETTO:-0600
TZNAME:CST
DTSTART:20241103T070000
END:STANDARD
BEGIN:DAYLIGHT
TZOFFSETFROM:-0600
TZOFFSETTO:-0500
TZNAME:CDT
DTSTART:20250309T080000
END:DAYLIGHT
BEGIN:STANDARD
TZOFFSETFROM:-0500
TZOFFSETTO:-0600
TZNAME:CST
DTSTART:20251102T070000
END:STANDARD
BEGIN:DAYLIGHT
TZOFFSETFROM:-0600
TZOFFSETTO:-0500
TZNAME:CDT
DTSTART:20260308T080000
END:DAYLIGHT
BEGIN:STANDARD
TZOFFSETFROM:-0500
TZOFFSETTO:-0600
TZNAME:CST
DTSTART:20261101T070000
END:STANDARD
END:VTIMEZONE
BEGIN:VEVENT
DTSTART;TZID=America/Chicago:20250916T090000
DTEND;TZID=America/Chicago:20250916T100000
DTSTAMP:20260422T152652
CREATED:20250814T161251Z
LAST-MODIFIED:20250903T143923Z
UID:10000928-1758013200-1758016800@oacs.wisc.edu
SUMMARY:Supervisor's Community of Practice Meeting
DESCRIPTION:The Office of Academic & Career Success facilitates a monthly Supervisor’s Community of Practice for advising\, career services\, and learning support staff members who have supervisory responsibilities. Each month\, the group dives into a new topic to spark conversation\, share insights\, and build our leadership toolkits. The month’s topic will be shared with the community prior to each monthly meeting. Whether you’re a seasoned supervisor or just stepping into the role\, come connect\, learn\, and grow with your peers. We encourage Community of Practice members to attend as many sessions as possible—each one is a chance to recharge and reflect on your approach to leadership. \nIf you have participated in this Community of Practice in the past you are welcome to continue\, but please be sure to register below for the 2025-26 sessions. \nThe list of meeting dates\, times\, and locations will be shared with community members after registration. \nQuestions? Please reach out to info.oacs@wisc.edu. \n\nWhen: Tuesday\, September 16\, 2025 from 9:00 to 10:00 am \nWhere: Morgridge Hall\, 7th Floor Seminar Room \nWho: Community of Practice Members \nSign up for the 25-26 Supervisor’s Community of Practice here by September 5.\n\nPlease note that using the “Add to Calendar” button below will not register you for this event. Please click above to register.
URL:https://oacs.wisc.edu/event/supervisors-community-of-practice-meeting/
LOCATION:Morgridge Hall\, 1205 University Avenue\, Madison\, WI\, 53706
CATEGORIES:For Supervisors
END:VEVENT
END:VCALENDAR