BEGIN:VCALENDAR
VERSION:2.0
PRODID:-//Office of Academic &amp; Career Success - ECPv6.15.20//NONSGML v1.0//EN
CALSCALE:GREGORIAN
METHOD:PUBLISH
X-WR-CALNAME:Office of Academic &amp; Career Success
X-ORIGINAL-URL:https://oacs.wisc.edu
X-WR-CALDESC:Events for Office of Academic &amp; Career Success
REFRESH-INTERVAL;VALUE=DURATION:PT1H
X-Robots-Tag:noindex
X-PUBLISHED-TTL:PT1H
BEGIN:VTIMEZONE
TZID:America/Chicago
BEGIN:DAYLIGHT
TZOFFSETFROM:-0600
TZOFFSETTO:-0500
TZNAME:CDT
DTSTART:20240310T080000
END:DAYLIGHT
BEGIN:STANDARD
TZOFFSETFROM:-0500
TZOFFSETTO:-0600
TZNAME:CST
DTSTART:20241103T070000
END:STANDARD
BEGIN:DAYLIGHT
TZOFFSETFROM:-0600
TZOFFSETTO:-0500
TZNAME:CDT
DTSTART:20250309T080000
END:DAYLIGHT
BEGIN:STANDARD
TZOFFSETFROM:-0500
TZOFFSETTO:-0600
TZNAME:CST
DTSTART:20251102T070000
END:STANDARD
BEGIN:DAYLIGHT
TZOFFSETFROM:-0600
TZOFFSETTO:-0500
TZNAME:CDT
DTSTART:20260308T080000
END:DAYLIGHT
BEGIN:STANDARD
TZOFFSETFROM:-0500
TZOFFSETTO:-0600
TZNAME:CST
DTSTART:20261101T070000
END:STANDARD
END:VTIMEZONE
BEGIN:VEVENT
DTSTART;TZID=America/Chicago:20250109T090000
DTEND;TZID=America/Chicago:20250109T100000
DTSTAMP:20260423T064602
CREATED:20240821T172629Z
LAST-MODIFIED:20240821T173242Z
UID:10000838-1736413200-1736416800@oacs.wisc.edu
SUMMARY:Supervisor Community of Practice Meeting
DESCRIPTION:The Office of Academic & Career Success facilitates a monthly Supervisor’s Community of Practice for advising\, career services\, and learning support staff members who have supervisory responsibilities. Topics vary by month and are shared closer to the date of each gathering with the community members. Participants are encouraged to attend as many sessions as possible. \nWhen: Thursday\, January 9\, 2025 from 9:00 to 10:00 am \nWhere: Virtual (link will be sent prior to meeting date) \nWho: Supervisor Community of Practice Members \nInterested in joining the Supervisor’s Community of Practice and attending this event? Please contact Emily Dickmann. \n\nPlease note that using the “Add to Calendar” button below will not register you for this event.
URL:https://oacs.wisc.edu/event/supervisor-community-of-practice-meeting/
LOCATION:Virtual
CATEGORIES:For Supervisors
END:VEVENT
END:VCALENDAR