BEGIN:VCALENDAR
VERSION:2.0
PRODID:-//Office of Academic &amp; Career Success - ECPv6.15.20//NONSGML v1.0//EN
CALSCALE:GREGORIAN
METHOD:PUBLISH
X-WR-CALNAME:Office of Academic &amp; Career Success
X-ORIGINAL-URL:https://oacs.wisc.edu
X-WR-CALDESC:Events for Office of Academic &amp; Career Success
REFRESH-INTERVAL;VALUE=DURATION:PT1H
X-Robots-Tag:noindex
X-PUBLISHED-TTL:PT1H
BEGIN:VTIMEZONE
TZID:America/Chicago
BEGIN:DAYLIGHT
TZOFFSETFROM:-0600
TZOFFSETTO:-0500
TZNAME:CDT
DTSTART:20230312T080000
END:DAYLIGHT
BEGIN:STANDARD
TZOFFSETFROM:-0500
TZOFFSETTO:-0600
TZNAME:CST
DTSTART:20231105T070000
END:STANDARD
BEGIN:DAYLIGHT
TZOFFSETFROM:-0600
TZOFFSETTO:-0500
TZNAME:CDT
DTSTART:20240310T080000
END:DAYLIGHT
BEGIN:STANDARD
TZOFFSETFROM:-0500
TZOFFSETTO:-0600
TZNAME:CST
DTSTART:20241103T070000
END:STANDARD
BEGIN:DAYLIGHT
TZOFFSETFROM:-0600
TZOFFSETTO:-0500
TZNAME:CDT
DTSTART:20250309T080000
END:DAYLIGHT
BEGIN:STANDARD
TZOFFSETFROM:-0500
TZOFFSETTO:-0600
TZNAME:CST
DTSTART:20251102T070000
END:STANDARD
END:VTIMEZONE
BEGIN:VEVENT
DTSTART;TZID=America/Chicago:20240912T090000
DTEND;TZID=America/Chicago:20240912T100000
DTSTAMP:20260423T133921
CREATED:20240821T171413Z
LAST-MODIFIED:20240821T173645Z
UID:10000823-1726131600-1726135200@oacs.wisc.edu
SUMMARY:Supervisor Community of Practice Meeting
DESCRIPTION:The Office of Academic & Career Success facilitates a monthly Supervisor’s Community of Practice for advising\, career services\, and learning support staff members who have supervisory responsibilities. This group is ideal for anyone wanting a space to consult and continue to learn about supervision approaches and best practices\, and/or anyone new(er) to a supervisory role. All are welcome! Topics vary by month and will be shared closer to the date of each gathering. Participants are encouraged to attend as many sessions as possible. \nPlease REGISTER HERE for the Community of Practice by September 5th. \nIf the registration deadline has passed\, but you are still interested in joining the Supervisor’s Community of Practice\, please contact Emily Dickmann. \nWhen: Thursday\, September 12\, 2024 from 9:00 to 10:00 am \nWhere: Memorial Union (please check “Today in the Union” for specific room) \nWho: Supervisor Community of Practice Members \n\nPlease note that using the “Add to Calendar” button below will not register you for this event. Please register through the link above.
URL:https://oacs.wisc.edu/event/supervisor-community-of-practice-19/
LOCATION:Memorial Union
CATEGORIES:For Supervisors
END:VEVENT
BEGIN:VEVENT
DTSTART;TZID=America/Chicago:20240912T090000
DTEND;TZID=America/Chicago:20240912T101500
DTSTAMP:20260423T133921
CREATED:20240805T132654Z
LAST-MODIFIED:20240905T163851Z
UID:10000805-1726131600-1726136100@oacs.wisc.edu
SUMMARY:Notes 101
DESCRIPTION:This Notes 101 orientation session (previously ANS 101) will provide an introduction to Notes in Advising Gateway and include a live demonstration on navigation and record entry\, guidelines for use of Notes focusing on writing and interpreting appointment notes\, and time for individual questions about using the database. \nThis orientation session is required for new users of the Notes in Advising Gateway. \nAny faculty or staff member who has a work purpose under FERPA to access individual student advising notes for their work are eligible to become authorized to use Notes in Advising Gateway. At this time undergraduate student employees are not eligible to use Notes. \nWhen: Thursday\, September 12\, 2024 from 9:00 to 10:15 am \nWhere: Virtual via Zoom \nWho: New users of Notes in Advising Gateway \nRegistrants will receive an email with instructions on how to join the meeting approximately 24 hours prior to the start time. \nRegister Here! \nQuestions? Please reach out to Jeff Shokler at jeffrey.shokler@wisc.edu. \n————————————————————————– \n\nPlease note that using the “Add to Calendar” button below will not register you for this event. Please click the link above to register.
URL:https://oacs.wisc.edu/event/notes-101/
LOCATION:Virtual
CATEGORIES:For Advisors,For Career Services Professionals,For Learning Support Staff,For New Staff,For Supervisors
END:VEVENT
END:VCALENDAR