BEGIN:VCALENDAR
VERSION:2.0
PRODID:-//Office of Academic &amp; Career Success - ECPv6.15.20//NONSGML v1.0//EN
CALSCALE:GREGORIAN
METHOD:PUBLISH
X-ORIGINAL-URL:https://oacs.wisc.edu
X-WR-CALDESC:Events for Office of Academic &amp; Career Success
REFRESH-INTERVAL;VALUE=DURATION:PT1H
X-Robots-Tag:noindex
X-PUBLISHED-TTL:PT1H
BEGIN:VTIMEZONE
TZID:America/Chicago
BEGIN:DAYLIGHT
TZOFFSETFROM:-0600
TZOFFSETTO:-0500
TZNAME:CDT
DTSTART:20250309T080000
END:DAYLIGHT
BEGIN:STANDARD
TZOFFSETFROM:-0500
TZOFFSETTO:-0600
TZNAME:CST
DTSTART:20251102T070000
END:STANDARD
BEGIN:DAYLIGHT
TZOFFSETFROM:-0600
TZOFFSETTO:-0500
TZNAME:CDT
DTSTART:20260308T080000
END:DAYLIGHT
BEGIN:STANDARD
TZOFFSETFROM:-0500
TZOFFSETTO:-0600
TZNAME:CST
DTSTART:20261101T070000
END:STANDARD
BEGIN:DAYLIGHT
TZOFFSETFROM:-0600
TZOFFSETTO:-0500
TZNAME:CDT
DTSTART:20270314T080000
END:DAYLIGHT
BEGIN:STANDARD
TZOFFSETFROM:-0500
TZOFFSETTO:-0600
TZNAME:CST
DTSTART:20271107T070000
END:STANDARD
END:VTIMEZONE
BEGIN:VEVENT
DTSTART;TZID=America/Chicago:20260109T090000
DTEND;TZID=America/Chicago:20260109T103000
DTSTAMP:20260422T084828
CREATED:20250815T192049Z
LAST-MODIFIED:20251215T200545Z
UID:10000958-1767949200-1767954600@oacs.wisc.edu
SUMMARY:Helping Skills and Practice: January Session
DESCRIPTION:Helping Skills and Practice is a monthly series of interactive workshops designed for staff members working in advising\, career services\, and learning support\, and can be especially helpful for new community members. This workshop offers a space to strengthen foundational skills and explore key theories that inform and guide our work with students. \nParticipants will engage in hands-on activities\, peer discussion\, and practical exercises that can be applied directly to day-to-day work. Whether you’re looking to deepen your understanding or refresh your approach\, this workshop provides a collaborative environment for growth and reflection. \n🌟 January Session Topic: Helping students with academic & career-related grief (part 2) \nHelping Skills and Practice is offered monthly throughout the semester\, with each session focusing on a different foundational skill and we encourage participants to register for and attend as many sessions as possible. View the additional Helping Skills and Practice session dates and register here. \nQuestions? Please reach out to info.oacs@wisc.edu. \n\nWhen: Friday\, January 9\, 2026 from 9:00 to 10:30 am \nWhere: Room 8417 in Social Sciences (1180 Observatory Dr) \nWho: Advising\, Career Services\, and Learning Support Community Members \nRegister Here by January 7 \n\n\nPlease note that using the “Add to Calendar” button below will not register you for this event. Please click above to register.
URL:https://oacs.wisc.edu/event/helping-skills-and-practice-january-session/
CATEGORIES:For New Staff
END:VEVENT
END:VCALENDAR