BEGIN:VCALENDAR
VERSION:2.0
PRODID:-//Office of Academic &amp; Career Success - ECPv6.15.20//NONSGML v1.0//EN
CALSCALE:GREGORIAN
METHOD:PUBLISH
X-ORIGINAL-URL:https://oacs.wisc.edu
X-WR-CALDESC:Events for Office of Academic &amp; Career Success
REFRESH-INTERVAL;VALUE=DURATION:PT1H
X-Robots-Tag:noindex
X-PUBLISHED-TTL:PT1H
BEGIN:VTIMEZONE
TZID:America/Chicago
BEGIN:DAYLIGHT
TZOFFSETFROM:-0600
TZOFFSETTO:-0500
TZNAME:CDT
DTSTART:20240310T080000
END:DAYLIGHT
BEGIN:STANDARD
TZOFFSETFROM:-0500
TZOFFSETTO:-0600
TZNAME:CST
DTSTART:20241103T070000
END:STANDARD
BEGIN:DAYLIGHT
TZOFFSETFROM:-0600
TZOFFSETTO:-0500
TZNAME:CDT
DTSTART:20250309T080000
END:DAYLIGHT
BEGIN:STANDARD
TZOFFSETFROM:-0500
TZOFFSETTO:-0600
TZNAME:CST
DTSTART:20251102T070000
END:STANDARD
BEGIN:DAYLIGHT
TZOFFSETFROM:-0600
TZOFFSETTO:-0500
TZNAME:CDT
DTSTART:20260308T080000
END:DAYLIGHT
BEGIN:STANDARD
TZOFFSETFROM:-0500
TZOFFSETTO:-0600
TZNAME:CST
DTSTART:20261101T070000
END:STANDARD
END:VTIMEZONE
BEGIN:VEVENT
DTSTART;TZID=America/Chicago:20250501T090000
DTEND;TZID=America/Chicago:20250501T101500
DTSTAMP:20260422T220753
CREATED:20250106T172953Z
LAST-MODIFIED:20250416T160543Z
UID:10000888-1746090000-1746094500@oacs.wisc.edu
SUMMARY:Notes 101
DESCRIPTION:This Notes 101 orientation session (previously ANS 101) will provide an introduction to Notes in Advising Gateway and include a live demonstration on navigation and record entry\, guidelines for use of the system focusing on writing and interpreting advising notes\, and time for individual questions about using the system. \nThis orientation session is required for new users of the Notes in Advising Gateway. \nAny faculty or staff member who has a work purpose under FERPA to access individual student advising notes for their work are eligible to become authorized to use Notes in Advising Gateway. At this time undergraduate student employees are not eligible to use the system. \nRegistrants will receive an email with instructions on how to join the meeting approximately 24 hours prior to the start time. Questions? Please reach out to Jeff Shokler at jeffrey.shokler@wisc.edu. \n\nWhen: Thursday\, May 1\, 2025 from 9:00 to 10:15 a.m. \nWhere: Virtual via Zoom \nWho: New users of Notes in Advising Gateway \nRegister Here \n\n\nPlease note that using the “Add to Calendar” button below will not register you for this event. Please click the link above to register.
URL:https://oacs.wisc.edu/event/notes-101-11/
LOCATION:Virtual
CATEGORIES:For New Staff
END:VEVENT
BEGIN:VEVENT
DTSTART;TZID=America/Chicago:20250506T133000
DTEND;TZID=America/Chicago:20250506T144500
DTSTAMP:20260422T220753
CREATED:20240822T191631Z
LAST-MODIFIED:20250416T160649Z
UID:10000855-1746538200-1746542700@oacs.wisc.edu
SUMMARY:Campus Resources and Referrals: Center for Leadership & Involvement
DESCRIPTION:Campus Resources & Referrals is an event series focused on holistic student support and well-being for new and new-ish advising\, career services\, and learning support community members. \nParticipants will engage in community building and professional development by connecting with key UW-Madison resources and offices\, learning when and how to refer students across campus. Each monthly session will include a facilitator from offices such as the Office of Student Assistance and Support\, University Health Services\, McBurney Disability Resource Center\, and more. The specific resource/office facilitator will be shared closer to each session date. \nQuestions? Contact Kim Mueller at kim.mueller@wisc.edu. \n\nMeeting Topic: Center for Leadership & Involvement \nWhen: Tuesday\, May 6 from 1:30 to 2:45 pm \nWhere: Memorial Union (Please check “Today in the Union” for the specific room) \nWho: New and New-ish Advising\, Career Services\, and Learning Support Community Members \nRegister Here \n\n\nPlease note that using the “Add to Calendar” button below will not register you for this event. Please click the link above to register.
URL:https://oacs.wisc.edu/event/campus-resources-and-referrals-session-7/
LOCATION:Memorial Union
CATEGORIES:For New Staff
END:VEVENT
BEGIN:VEVENT
DTSTART;TZID=America/Chicago:20250522T090000
DTEND;TZID=America/Chicago:20250522T101500
DTSTAMP:20260422T220753
CREATED:20250106T173103Z
LAST-MODIFIED:20250109T181320Z
UID:10000889-1747904400-1747908900@oacs.wisc.edu
SUMMARY:Notes 101
DESCRIPTION:This Notes 101 orientation session (previously ANS 101) will provide an introduction to Notes in Advising Gateway and include a live demonstration on navigation and record entry\, guidelines for use of the system focusing on writing and interpreting advising notes\, and time for individual questions about using the system. \nThis orientation session is required for new users of the Notes in Advising Gateway. \nAny faculty or staff member who has a work purpose under FERPA to access individual student advising notes for their work are eligible to become authorized to use Notes in Advising Gateway. At this time undergraduate student employees are not eligible to use the system. \nRegistrants will receive an email with instructions on how to join the meeting approximately 24 hours prior to the start time. Questions? Please reach out to Jeff Shokler at jeffrey.shokler@wisc.edu. \n\nWhen: Thursday\, May 22\, 2025 from 9:00 to 10:15 a.m. \nWhere: Virtual via Zoom \nWho: New users of Notes in Advising Gateway \nREGISTER HERE!\n\n\nPlease note that using the “Add to Calendar” button below will not register you for this event. Please click the link above to register.
URL:https://oacs.wisc.edu/event/notes-101-12/
LOCATION:Virtual
CATEGORIES:For New Staff
END:VEVENT
END:VCALENDAR