BEGIN:VCALENDAR
VERSION:2.0
PRODID:-//Office of Academic &amp; Career Success - ECPv6.15.20//NONSGML v1.0//EN
CALSCALE:GREGORIAN
METHOD:PUBLISH
X-ORIGINAL-URL:https://oacs.wisc.edu
X-WR-CALDESC:Events for Office of Academic &amp; Career Success
REFRESH-INTERVAL;VALUE=DURATION:PT1H
X-Robots-Tag:noindex
X-PUBLISHED-TTL:PT1H
BEGIN:VTIMEZONE
TZID:America/Chicago
BEGIN:DAYLIGHT
TZOFFSETFROM:-0600
TZOFFSETTO:-0500
TZNAME:CDT
DTSTART:20230312T080000
END:DAYLIGHT
BEGIN:STANDARD
TZOFFSETFROM:-0500
TZOFFSETTO:-0600
TZNAME:CST
DTSTART:20231105T070000
END:STANDARD
BEGIN:DAYLIGHT
TZOFFSETFROM:-0600
TZOFFSETTO:-0500
TZNAME:CDT
DTSTART:20240310T080000
END:DAYLIGHT
BEGIN:STANDARD
TZOFFSETFROM:-0500
TZOFFSETTO:-0600
TZNAME:CST
DTSTART:20241103T070000
END:STANDARD
BEGIN:DAYLIGHT
TZOFFSETFROM:-0600
TZOFFSETTO:-0500
TZNAME:CDT
DTSTART:20250309T080000
END:DAYLIGHT
BEGIN:STANDARD
TZOFFSETFROM:-0500
TZOFFSETTO:-0600
TZNAME:CST
DTSTART:20251102T070000
END:STANDARD
END:VTIMEZONE
BEGIN:VEVENT
DTSTART;TZID=America/Chicago:20241104T100000
DTEND;TZID=America/Chicago:20241104T120000
DTSTAMP:20260423T102117
CREATED:20241010T154416Z
LAST-MODIFIED:20241010T154416Z
UID:10000868-1730714400-1730721600@oacs.wisc.edu
SUMMARY:First Nations Cultural Landscape Tour for New Staff
DESCRIPTION:New advising\, career services\, and learning support staff are invited to experience UW-Madison’s First Nations Cultural Landscape Tour. \nThe First Nations Cultural Landscape Tour is an award-winning\, place-based\, walking tour that welcomes guests to learn about the First Nations of Wisconsin and the 14\,000+ years of human history in the area known as Teejop (Four Lakes) and Madison. Participants visit UW-Madison campus buildings\, historical markers\, and archaeological sites to discuss historic – and contemporary – relationships with First Nations. \nThis is a walking tour that will begin at the Memorial Union Information Desk and conclude towards the west side of campus. The walking tour is not fully physically accessible due to sustained periods of walking over various terrain such as stairs and inclines in elevation (e.g. Bascom Hill). Participants are encouraged to dress for the weather and wear comfortable shoes. \nWhen: Monday\, November 4\, 2024 from 10:00 a.m. to 12:00 p.m. \nWhere: Meet at the Memorial Union Information Desk where the tour will begin. \nWho: New and new-ish advising\, career services\, and learning support staff \nREGISTER HERE by October 21st!\nQuestions? Contact Danielle at danielle.marriner@wisc.edu. \n\nPlease note that using the “Add to Calendar” button below will not register you for this event. Please click the link above to register.
URL:https://oacs.wisc.edu/event/first-nations-cultural-landscape-tour-for-new-staff/
CATEGORIES:For New Staff
END:VEVENT
BEGIN:VEVENT
DTSTART;TZID=America/Chicago:20241105T133000
DTEND;TZID=America/Chicago:20241105T144500
DTSTAMP:20260423T102117
CREATED:20240822T191321Z
LAST-MODIFIED:20241024T203805Z
UID:10000850-1730813400-1730817900@oacs.wisc.edu
SUMMARY:Campus Resources and Referrals Session 2
DESCRIPTION:Campus Resources & Referrals is an event series focused on holistic student support and well-being for advising\, career services\, and learning support community members. Participants will engage in community building and professional development by connecting with key UW-Madison resources and offices\, learning when and how to refer students across campus. Each monthly session will include a facilitator from offices such as the Office of Student Assistance and Support\, University Health Services\, McBurney Disability Resource Center\, and more. The specific resource or office facilitator will be shared closer to each session date. \nWhen you fill out the registration form below\, you will receive information and reminders for all sessions of Campus Resources & Referrals. This does not mean that you must attend each event after registering for the series; please attend those that work with your schedule. You are welcome to sign up at any point even if you’ve missed previous sessions! \n\nMonthly Topic: University Health Services \nWhen: Tuesday\, November 5 from 1:30 to 2:45 pm \nWhere: Memorial Union (Please check “Today in the Union” for the specific room) \nWho: Advising\, Career Services\, and Learning Support Community Members (new and experienced!) \nREGISTER HERE!\nQuestions? Contact Kim Mueller at kim.mueller@wisc.edu. \n\n\nPlease note that using the “Add to Calendar” button below will not register you for this event. Please click the link above to register.
URL:https://oacs.wisc.edu/event/campus-resources-and-referrals-session-2/
LOCATION:Memorial Union
CATEGORIES:For New Staff
END:VEVENT
BEGIN:VEVENT
DTSTART;TZID=America/Chicago:20241108T090000
DTEND;TZID=America/Chicago:20241108T103000
DTSTAMP:20260423T102117
CREATED:20240805T175203Z
LAST-MODIFIED:20241028T214403Z
UID:10000812-1731056400-1731061800@oacs.wisc.edu
SUMMARY:Helping Skills and Practice Session 2
DESCRIPTION:Helping Skills and Practice is a workshop-style event series intended for new and new-ish advising\, career services\, and learning support staff members. These workshops will focus on practicing core skills and understanding a variety of theories that impact and guide our work with students. A specific meeting topic will be shared closer to each session date on this calendar and directly with those already registered. \nWhen you register for this event through OHRD\, you will be registered for the entire series and will receive reminders prior to each session. This does not mean that you must attend each event after registering for the series; please attend those that work with your schedule. You are welcome to register at any time (space allowing) even if you missed earlier sessions.  \n\nMonthly Meeting Topic: Making effective referrals \nWhen: Friday\, November 8\, 2024 from 9:00 to 10:30 am \nWhere: Memorial Union (please check “Today in the Union” for the specific room) \nWho: New and New-ish Advising\, Career Services\, and Learning Support Staff Members \nAt this time\, please email Emily Dickmann at emily.dickmann@wisc.edu if you wish to register for this Helping Skills and Practice Session.\n\n\nPlease note that using the “Add to Calendar” button below will not register you for this event. Please click the link above to register.
URL:https://oacs.wisc.edu/event/helping-skills-and-practice/
LOCATION:Memorial Union
CATEGORIES:For New Staff
END:VEVENT
BEGIN:VEVENT
DTSTART;TZID=America/Chicago:20241112T090000
DTEND;TZID=America/Chicago:20241112T113000
DTSTAMP:20260423T102117
CREATED:20240729T171811Z
LAST-MODIFIED:20241028T214842Z
UID:10000802-1731402000-1731411000@oacs.wisc.edu
SUMMARY:Career Services 101
DESCRIPTION:This interactive workshop and presentation is for new (or new-ish) career services staff members to take a deep dive into the undergraduate career services landscape at UW-Madison. This is a great chance to connect with the Office of Academic & Career Success\, as well as other new career services staff members. Questions? Contact Danielle Marriner. \nThe event will also include breakfast and time for community building! \nTopics covered will include: \n\nThe structure of career services at UW-Madison\nThe career resources and support provided by the Office of Academic & Career Success\nPast case studies and pro tips\n\n\nWhen: Tuesday\, November 12\, 2024 from 9:00 to 11:30 am \nWhere: Bascom 260 \nWho: New or New-ish Career Services Staff \nREGISTER HERE by November 4.\n\nPlease note that using the “Add to Calendar” button below will not register you for this event. Please click the link above to register.
URL:https://oacs.wisc.edu/event/career-services-101-2/
LOCATION:260 Bascom
CATEGORIES:For Career Services Professionals,For New Staff
END:VEVENT
BEGIN:VEVENT
DTSTART;TZID=America/Chicago:20241114T090000
DTEND;TZID=America/Chicago:20241114T101500
DTSTAMP:20260423T102117
CREATED:20240805T140313Z
LAST-MODIFIED:20241028T215030Z
UID:10000809-1731574800-1731579300@oacs.wisc.edu
SUMMARY:Notes 101
DESCRIPTION:This Notes 101 orientation session (previously ANS 101) will provide an introduction to Notes in Advising Gateway and include a live demonstration on navigation and record entry\, guidelines for use of the system focusing on writing and interpreting advising notes\, and time for individual questions about using the system. \nThis orientation session is required for new users of the Notes in Advising Gateway. \nAny faculty or staff member who has a work purpose under FERPA to access individual student advising notes for their work are eligible to become authorized to use Notes in Advising Gateway. At this time undergraduate student employees are not eligible to use the system. \nRegistrants will receive an email with instructions on how to join the meeting approximately 24 hours prior to the start time. Questions? Please reach out to Jeff Shokler at jeffrey.shokler@wisc.edu. \n\nWhen: Thursday\, November 14\, 2024 from 9:00 to 10:15 am \nWhere: Virtual via Zoom \nWho: New users of Notes in Advising Gateway \nREGISTER HERE\n\n\nPlease note that using the “Add to Calendar” button below will not register you for this event. Please click the link above to register.
URL:https://oacs.wisc.edu/event/notes-101-5/
LOCATION:Virtual
CATEGORIES:For Advisors,For Career Services Professionals,For Learning Support Staff,For New Staff,For Supervisors
END:VEVENT
END:VCALENDAR