BEGIN:VCALENDAR
VERSION:2.0
PRODID:-//Office of Academic &amp; Career Success - ECPv6.15.20//NONSGML v1.0//EN
CALSCALE:GREGORIAN
METHOD:PUBLISH
X-WR-CALNAME:Office of Academic &amp; Career Success
X-ORIGINAL-URL:https://oacs.wisc.edu
X-WR-CALDESC:Events for Office of Academic &amp; Career Success
REFRESH-INTERVAL;VALUE=DURATION:PT1H
X-Robots-Tag:noindex
X-PUBLISHED-TTL:PT1H
BEGIN:VTIMEZONE
TZID:America/Chicago
BEGIN:DAYLIGHT
TZOFFSETFROM:-0600
TZOFFSETTO:-0500
TZNAME:CDT
DTSTART:20230312T080000
END:DAYLIGHT
BEGIN:STANDARD
TZOFFSETFROM:-0500
TZOFFSETTO:-0600
TZNAME:CST
DTSTART:20231105T070000
END:STANDARD
BEGIN:DAYLIGHT
TZOFFSETFROM:-0600
TZOFFSETTO:-0500
TZNAME:CDT
DTSTART:20240310T080000
END:DAYLIGHT
BEGIN:STANDARD
TZOFFSETFROM:-0500
TZOFFSETTO:-0600
TZNAME:CST
DTSTART:20241103T070000
END:STANDARD
BEGIN:DAYLIGHT
TZOFFSETFROM:-0600
TZOFFSETTO:-0500
TZNAME:CDT
DTSTART:20250309T080000
END:DAYLIGHT
BEGIN:STANDARD
TZOFFSETFROM:-0500
TZOFFSETTO:-0600
TZNAME:CST
DTSTART:20251102T070000
END:STANDARD
END:VTIMEZONE
BEGIN:VEVENT
DTSTART;TZID=America/Chicago:20240426T100000
DTEND;TZID=America/Chicago:20240426T224500
DTSTAMP:20260422T170714
CREATED:20240312T180907Z
LAST-MODIFIED:20240312T180907Z
UID:10000783-1714125600-1714171500@oacs.wisc.edu
SUMMARY:Transferology Training
DESCRIPTION:The Credit Evaluation Services team will be providing training on using Transferology and TransferologyLab on April 26th from 10:00 – 10:45 am. \nTransferologyLab is the source of transfer equivalencies for faculty and staff at UW. Transferology is the student facing website\, with transfer equivalencies from institutions across the country. The equivalencies are the same on both sites. \nThe session will be a live demonstration with the opportunity to follow along in your own account. The session will include using both TransferologyLab and Transferology to view course equivalencies\, find direct equivalents\, and search for UW requirements. \nWe are providing this training because the Office of the Registrar has retired the Course Equivalency Service. It has been replaced by allowing UW-Madison students to reliably use and add equivalents to Transferology\, a public transfer credit database. The Office of the Registrar held an information session about this change earlier this year. If you could not attend or would like to revisit the presentation\, you can access the recording here. \nThis training session is appropriate for any advisor wanting a refresher on Transferology or TransferologyLab\, or any advisor new to these sites.  \nThe training will be 45 minutes\, which will include time for questions. \nRegistration is not required. You can join the info session by clicking here on the event date/time.
URL:https://oacs.wisc.edu/event/transferology-training-4/
LOCATION:Virtual
CATEGORIES:For Advisors,For Career Services Professionals,For Experienced Staff,For Learning Support Staff,For New Staff,For Supervisors
END:VEVENT
END:VCALENDAR