BEGIN:VCALENDAR
VERSION:2.0
PRODID:-//Office of Academic &amp; Career Success - ECPv6.15.20//NONSGML v1.0//EN
CALSCALE:GREGORIAN
METHOD:PUBLISH
X-WR-CALNAME:Office of Academic &amp; Career Success
X-ORIGINAL-URL:https://oacs.wisc.edu
X-WR-CALDESC:Events for Office of Academic &amp; Career Success
REFRESH-INTERVAL;VALUE=DURATION:PT1H
X-Robots-Tag:noindex
X-PUBLISHED-TTL:PT1H
BEGIN:VTIMEZONE
TZID:America/Chicago
BEGIN:DAYLIGHT
TZOFFSETFROM:-0600
TZOFFSETTO:-0500
TZNAME:CDT
DTSTART:20230312T080000
END:DAYLIGHT
BEGIN:STANDARD
TZOFFSETFROM:-0500
TZOFFSETTO:-0600
TZNAME:CST
DTSTART:20231105T070000
END:STANDARD
BEGIN:DAYLIGHT
TZOFFSETFROM:-0600
TZOFFSETTO:-0500
TZNAME:CDT
DTSTART:20240310T080000
END:DAYLIGHT
BEGIN:STANDARD
TZOFFSETFROM:-0500
TZOFFSETTO:-0600
TZNAME:CST
DTSTART:20241103T070000
END:STANDARD
BEGIN:DAYLIGHT
TZOFFSETFROM:-0600
TZOFFSETTO:-0500
TZNAME:CDT
DTSTART:20250309T080000
END:DAYLIGHT
BEGIN:STANDARD
TZOFFSETFROM:-0500
TZOFFSETTO:-0600
TZNAME:CST
DTSTART:20251102T070000
END:STANDARD
END:VTIMEZONE
BEGIN:VEVENT
DTSTART;TZID=America/Chicago:20240709T123000
DTEND;TZID=America/Chicago:20240709T140000
DTSTAMP:20260422T184425
CREATED:20240312T212035Z
LAST-MODIFIED:20240508T190423Z
UID:10000785-1720528200-1720533600@oacs.wisc.edu
SUMMARY:SOAR Terrific Tuesdays (Session 2)
DESCRIPTION:Terrific Tuesdays provide information sharing and professional development for peer and professional advisors who work at SOAR. \nTerrific Tuesday sessions generally include community building\, timely updates\, course access information and feedback\, and preparation for special SOAR sessions. \nRegister here for Terrific Tuesdays!
URL:https://oacs.wisc.edu/event/soar-terrific-tuesdays-session-2/
LOCATION:Pyle Center
CATEGORIES:For Advisors,For Experienced Staff,For New Staff,For Supervisors
END:VEVENT
BEGIN:VEVENT
DTSTART;TZID=America/Chicago:20240715T123000
DTEND;TZID=America/Chicago:20240715T140000
DTSTAMP:20260422T184425
CREATED:20240624T172800Z
LAST-MODIFIED:20240624T172905Z
UID:10000799-1721046600-1721052000@oacs.wisc.edu
SUMMARY:OACS Wellness Event Series: Summer Walk
DESCRIPTION:Join the OACS Wellness Subcommittee and your fellow colleagues for a Summer Walk! Summer is the perfect time to step out of your office and take in the scenic beauty of our campus. We will take a walk along the lakeshore path. \nWhen: Monday\, July 15th\, meeting at 12:30 pm \nWhere: Meet at Memorial Union (Hoofer’s Boat Dock Area) – we will walk along the lakeshore path \nWho: All Advising\, Career Services\, and Learning Support Staff \nPlease sign up here if you plan to attend!
URL:https://oacs.wisc.edu/event/oacs-wellness-event-series-summer-walk/
LOCATION:Memorial Union
CATEGORIES:For Advisors,For Career Services Professionals,For Experienced Staff,For Learning Support Staff,For New Staff,For Supervisors
END:VEVENT
BEGIN:VEVENT
DTSTART;TZID=America/Chicago:20240723T090000
DTEND;TZID=America/Chicago:20240723T103000
DTSTAMP:20260422T184425
CREATED:20240606T162854Z
LAST-MODIFIED:20240606T162940Z
UID:10000796-1721725200-1721730600@oacs.wisc.edu
SUMMARY:Career Services Community Summit
DESCRIPTION:Career Services colleagues are invited to join the Office of Academic & Career Success on Tuesday\, July 23 from 9:00 to 10:30 am for our bi-annual Career Services Community Summit. All members of the career services community are welcome and encouraged to attend. The virtual event will include: \n\nCommunity building and time to network with colleagues across our 14+ career services units\nUpdates regarding campus-wide initiatives and work happening within committees and working groups\nProfessional development for Handshake and employer engagement\n\nWhen: Tuesday\, July 23\, 2024 from 9:00 to 10:30 am \nWhere: Virtually via Zoom (register below for more information) \nWho: Career Services Community Members \nPlease register here for this event by 8:00 am on Tuesday\, July 23rd.
URL:https://oacs.wisc.edu/event/career-services-community-summit/
LOCATION:Virtual
CATEGORIES:For Career Services Professionals,For Experienced Staff,For New Staff,For Supervisors
END:VEVENT
END:VCALENDAR