BEGIN:VCALENDAR
VERSION:2.0
PRODID:-//Office of Academic &amp; Career Success - ECPv6.15.20//NONSGML v1.0//EN
CALSCALE:GREGORIAN
METHOD:PUBLISH
X-ORIGINAL-URL:https://oacs.wisc.edu
X-WR-CALDESC:Events for Office of Academic &amp; Career Success
REFRESH-INTERVAL;VALUE=DURATION:PT1H
X-Robots-Tag:noindex
X-PUBLISHED-TTL:PT1H
BEGIN:VTIMEZONE
TZID:America/Chicago
BEGIN:DAYLIGHT
TZOFFSETFROM:-0600
TZOFFSETTO:-0500
TZNAME:CDT
DTSTART:20230312T080000
END:DAYLIGHT
BEGIN:STANDARD
TZOFFSETFROM:-0500
TZOFFSETTO:-0600
TZNAME:CST
DTSTART:20231105T070000
END:STANDARD
BEGIN:DAYLIGHT
TZOFFSETFROM:-0600
TZOFFSETTO:-0500
TZNAME:CDT
DTSTART:20240310T080000
END:DAYLIGHT
BEGIN:STANDARD
TZOFFSETFROM:-0500
TZOFFSETTO:-0600
TZNAME:CST
DTSTART:20241103T070000
END:STANDARD
BEGIN:DAYLIGHT
TZOFFSETFROM:-0600
TZOFFSETTO:-0500
TZNAME:CDT
DTSTART:20250309T080000
END:DAYLIGHT
BEGIN:STANDARD
TZOFFSETFROM:-0500
TZOFFSETTO:-0600
TZNAME:CST
DTSTART:20251102T070000
END:STANDARD
END:VTIMEZONE
BEGIN:VEVENT
DTSTART;TZID=America/Chicago:20240611T123000
DTEND;TZID=America/Chicago:20240611T140000
DTSTAMP:20260422T213644
CREATED:20240312T210106Z
LAST-MODIFIED:20240508T190400Z
UID:10000784-1718109000-1718114400@oacs.wisc.edu
SUMMARY:SOAR Terrific Tuesdays (Session 1)
DESCRIPTION:Terrific Tuesdays provide information sharing and professional development for peer and professional advisors who work at SOAR. \nTerrific Tuesday sessions generally include community building\, timely updates\, course access information and feedback\, and preparation for special SOAR sessions. \nRegister here for Terrific Tuesdays!
URL:https://oacs.wisc.edu/event/terrific-tuesday-1/
LOCATION:Pyle Center
CATEGORIES:For Advisors,For Experienced Staff,For New Staff,For Supervisors
END:VEVENT
BEGIN:VEVENT
DTSTART;TZID=America/Chicago:20240627T150000
DTEND;TZID=America/Chicago:20240627T170000
DTSTAMP:20260422T213644
CREATED:20240624T172007Z
LAST-MODIFIED:20240624T172359Z
UID:10000798-1719500400-1719507600@oacs.wisc.edu
SUMMARY:OACS Wellness Event Series: Terrace Time
DESCRIPTION:Join the OACS Wellness Subcommittee and your fellow colleagues to soak up the beautiful atmosphere and enjoy some ice cream\, snacks\, coffee\, and drinks. Guest cards worth $12.00 will be provided to the first 50 attendees on a first come\, first serve basis. Feel free to come and go as your schedule permits! \nWhen: Thursday\, June 27th starting at 3:00 pm \nWhere: Memorial Union (Meet at the brat stand outside) \nWho: All Advising\, Career Services\, and Learning Support Staff \nPlease register here if you plan to attend!
URL:https://oacs.wisc.edu/event/oacs-wellness-event-series-terrace-time/
LOCATION:Memorial Union
CATEGORIES:For Advisors,For Career Services Professionals,For Experienced Staff,For Learning Support Staff,For New Staff,For Supervisors
END:VEVENT
END:VCALENDAR