BEGIN:VCALENDAR
VERSION:2.0
PRODID:-//Office of Academic &amp; Career Success - ECPv6.15.20//NONSGML v1.0//EN
CALSCALE:GREGORIAN
METHOD:PUBLISH
X-WR-CALNAME:Office of Academic &amp; Career Success
X-ORIGINAL-URL:https://oacs.wisc.edu
X-WR-CALDESC:Events for Office of Academic &amp; Career Success
REFRESH-INTERVAL;VALUE=DURATION:PT1H
X-Robots-Tag:noindex
X-PUBLISHED-TTL:PT1H
BEGIN:VTIMEZONE
TZID:America/Chicago
BEGIN:DAYLIGHT
TZOFFSETFROM:-0600
TZOFFSETTO:-0500
TZNAME:CDT
DTSTART:20230312T080000
END:DAYLIGHT
BEGIN:STANDARD
TZOFFSETFROM:-0500
TZOFFSETTO:-0600
TZNAME:CST
DTSTART:20231105T070000
END:STANDARD
BEGIN:DAYLIGHT
TZOFFSETFROM:-0600
TZOFFSETTO:-0500
TZNAME:CDT
DTSTART:20240310T080000
END:DAYLIGHT
BEGIN:STANDARD
TZOFFSETFROM:-0500
TZOFFSETTO:-0600
TZNAME:CST
DTSTART:20241103T070000
END:STANDARD
BEGIN:DAYLIGHT
TZOFFSETFROM:-0600
TZOFFSETTO:-0500
TZNAME:CDT
DTSTART:20250309T080000
END:DAYLIGHT
BEGIN:STANDARD
TZOFFSETFROM:-0500
TZOFFSETTO:-0600
TZNAME:CST
DTSTART:20251102T070000
END:STANDARD
END:VTIMEZONE
BEGIN:VEVENT
DTSTART;TZID=America/Chicago:20240502T150000
DTEND;TZID=America/Chicago:20240502T160000
DTSTAMP:20260422T231351
CREATED:20240206T155719Z
LAST-MODIFIED:20240206T163437Z
UID:10000767-1714662000-1714665600@oacs.wisc.edu
SUMMARY:Build a Goodie Bag: Wellness Event Series
DESCRIPTION:Join us and fill a goodie bag to uplift a co-worker or friend! All goodie bag supplies will be provided. Just bring yourself. \nOrganized by the Wellness Subcommittee. \nRegister here for any of our Spring Wellness Events!
URL:https://oacs.wisc.edu/event/build-a-goodie-bag-wellness-event-series/
LOCATION:Union South\, 1308 W Dayton Street\, Madison\, WI\, 53715\, United States
CATEGORIES:For Advisors,For Career Services Professionals,For Experienced Staff,For Learning Support Staff,For New Staff,For Supervisors
END:VEVENT
BEGIN:VEVENT
DTSTART;TZID=America/Chicago:20240503T110000
DTEND;TZID=America/Chicago:20240503T120000
DTSTAMP:20260422T231351
CREATED:20240417T161626Z
LAST-MODIFIED:20240422T181109Z
UID:10000788-1714734000-1714737600@oacs.wisc.edu
SUMMARY:International Student Career Development CoP Meeting
DESCRIPTION:The International Student Career Development Community of Practice is a group of career services colleagues who share common challenges\, opportunities\, and a passion for career development work for international students regardless of their job title. Community of Practice members will collaborate to deepen their understanding of international student career development and build skills through ongoing learning and knowledge sharing. \nMeeting Topic: Steve Catania from SuccessWorks will chat about content related to Canvas modules in addition to talking about their Inter-LS 260 course which is one option international students can use get approval for domestic internships via CPT. \nWhen: May 3\, 11:00 am – 12:00 pm \nWhere: Virtual via Zoom \n\nJoin the Zoom meeting here\nMeeting ID: 973 3340 6601\nPasscode: 925794\n\nIf you would like to become an International Student Career Development Community of Practice member\, please fill out the Career Services Communities of Practice Interest Form. \nQuestions? Contact Danielle at danielle.marriner@wisc.edu.
URL:https://oacs.wisc.edu/event/international-student-career-development-cop-meeting/
LOCATION:Virtual
CATEGORIES:For Career Services Professionals,For Experienced Staff,For New Staff,For Supervisors
END:VEVENT
BEGIN:VEVENT
DTSTART;TZID=America/Chicago:20240508T130000
DTEND;TZID=America/Chicago:20240508T140000
DTSTAMP:20260422T231351
CREATED:20240422T181319Z
LAST-MODIFIED:20240422T181319Z
UID:10000789-1715173200-1715176800@oacs.wisc.edu
SUMMARY:Career Courses & Curriculum CoP Meeting
DESCRIPTION:The Career Courses & Curriculum Community of Practice is a group of career services colleagues who share common challenges\, opportunities\, and a passion for teaching career development content regardless of their job title. Community of Practice members will collaborate to deepen their understanding of career courses and curriculum and build skills through ongoing learning and knowledge sharing. \nMeeting Topic: Hannah Hatlan-Atwell from the School of Human Ecology (and the leader of this CoP) will facilitate a discussion on policies and language in syllabi for career courses. As pre-work for this discussion\, please contribute your ideas and samples from your own syllabi. \nWhen: May 8\, 1:00 – 2:00 pm \nWhere: Virtual via Zoom \n\nJoin the Zoom meeting here\nMeeting ID: 988 7786 8914\nPasscode: 125325\n\nIf you would like to become a Career Courses and Curriculum Community of Practice member\, please fill out the Career Services Communities of Practice Interest Form. \nQuestions? Contact Danielle at danielle.marriner@wisc.edu.
URL:https://oacs.wisc.edu/event/career-courses-curriculum-cop-meeting/
LOCATION:Virtual
CATEGORIES:For Career Services Professionals,For Experienced Staff,For New Staff,For Supervisors
END:VEVENT
BEGIN:VEVENT
DTSTART;TZID=America/Chicago:20240508T140000
DTEND;TZID=America/Chicago:20240508T150000
DTSTAMP:20260422T231351
CREATED:20240319T160533Z
LAST-MODIFIED:20240319T161003Z
UID:10000787-1715176800-1715180400@oacs.wisc.edu
SUMMARY:Advisor RoundTable: Discussing Probation Practices & Policies
DESCRIPTION:What is Advisor RoundTable? \nThis is an opportunity to join other advisors to share knowledge and resources on a variety of topics. Dig deep into conversations\, or come to learn about a topic for the first time. Anyone interested in the topic\, regardless of role\, is welcome to join any session of the series. \nMay 8th Session: Discussing Probation Practices & Policies \nOutline: This session will include a moderated panel from across campus to discuss various probation practices and policies. Snacks will be provided. \nWho is it for: Open to anyone who wants to learn\, share\, and discuss more about probation practices and policies. \nWhen: May 8\, 2:00 – 3:00 pm\, Union South (please check Today in the Union) \nRegister here for the May 8th Advisor RoundTable! \nQuestions? Reach out to Kala at kala.grove@wisc.edu.
URL:https://oacs.wisc.edu/event/advisor-roundtable-discussing-probation-practices-policies/
LOCATION:Union South\, 1308 W Dayton Street\, Madison\, WI\, 53715\, United States
CATEGORIES:For Advisors,For Experienced Staff,For New Staff,For Supervisors
END:VEVENT
BEGIN:VEVENT
DTSTART;TZID=America/Chicago:20240509T130000
DTEND;TZID=America/Chicago:20240509T140000
DTSTAMP:20260422T231351
CREATED:20240311T150025Z
LAST-MODIFIED:20240501T152757Z
UID:10000779-1715259600-1715263200@oacs.wisc.edu
SUMMARY:Information Science Careers in Law & Beyond: Advising Students with Intersectional Interests
DESCRIPTION:Information Science is one of the newest majors on campus. This interdisciplinary major and its emphasis on technology prepares students for a variety of fields\, such as careers in law. \nDuring this presentation\, learn how information science can be a great fit for a student with an interest in the human side of technology. We will cover what information science really is\, do a case study advising a student with overlapping interests\, and give examples of careers in information science and law. You’ll also hear from a current Information Science student with intersecting interests in humanities. \nPresenters include: \n\nStacy Harnett\, Academic Advising Manager\, Information School\nRyan Bouchard\, Career Advisor\, Career Exploration Center\nJanet Mitchell\, Pre-Law Advisor\, Center for Pre-Law Advising\nChloe Foor\, Senior majoring in Info Science\, Computer Science\, and History\n\nWhen: May 9\, 2024 from 1:00 to 2:00 pm \nWhere: Virtual via Zoom – Join HERE at the date/time above. \nPlease register here prior to the event!
URL:https://oacs.wisc.edu/event/information-science-careers-in-law-beyond-advising-students-with-intersectional-interests/
LOCATION:Virtual
CATEGORIES:For Advisors,For Career Services Professionals,For Experienced Staff,For Learning Support Staff,For New Staff,For Supervisors
END:VEVENT
BEGIN:VEVENT
DTSTART;TZID=America/Chicago:20240514T100000
DTEND;TZID=America/Chicago:20240514T110000
DTSTAMP:20260422T231351
CREATED:20240102T164344Z
LAST-MODIFIED:20240102T164344Z
UID:10000754-1715680800-1715684400@oacs.wisc.edu
SUMMARY:Career Advising/Coaching Community of Practice
DESCRIPTION:The Career Advising/Coaching Community of Practice is a group of career services colleagues who share common challenges\, opportunities\, and/or a passion for career advising/coaching work regardless of their job title. Community of Practice members will collaborate to deepen their understanding of this topic and build skills through ongoing learning and knowledge sharing. \nMeeting topics will vary based on community needs and interests\, and may include methods such as guest speakers\, roundtable discussions\, presentations\, panels\, and more. This meeting will be held in-person. \nHow to Join: To become a member of this Community of Practice and receive more information about this specific meeting\, please fill out the Career Services Communities of Practice Interest Form here.  \nQuestions? Contact Danielle Marriner (danielle.marriner@wisc.edu). \nLink to additional resources: https://oacs.wisc.edu/career-services-communities-of-practice/
URL:https://oacs.wisc.edu/event/career-advising-coaching-community-of-practice-7/
CATEGORIES:For Career Services Professionals,For Experienced Staff,For New Staff
END:VEVENT
BEGIN:VEVENT
DTSTART;TZID=America/Chicago:20240514T120000
DTEND;TZID=America/Chicago:20240514T140000
DTSTAMP:20260422T231351
CREATED:20231121T145322Z
LAST-MODIFIED:20240304T205154Z
UID:10000740-1715688000-1715695200@oacs.wisc.edu
SUMMARY:SOAR Advising 101
DESCRIPTION:This SOAR Advising 101 workshop is designed for advisors who are preparing for their first summer at Student Orientation\, Advising & Registration (SOAR). \nNew SOAR advisors will learn about the structure and purpose of SOAR through experiential\, community-based activities and also have opportunities to ask questions and get advice from experienced SOAR advisors. \nRegister here for SOAR Advising 101. \nPlease contact info.oacs@wisc.edu with any questions.
URL:https://oacs.wisc.edu/event/soar-advising-101-24/
LOCATION:H. F. DeLuca Forum\, Discovery Building\, 330 N. Orchard St.\, Madison\, WI\, 53715\, United States
CATEGORIES:For Advisors,For Experienced Staff,For New Staff
END:VEVENT
BEGIN:VEVENT
DTSTART;TZID=America/Chicago:20240515T090000
DTEND;TZID=America/Chicago:20240515T120000
DTSTAMP:20260422T231351
CREATED:20231121T144825Z
LAST-MODIFIED:20240304T205127Z
UID:10000739-1715763600-1715774400@oacs.wisc.edu
SUMMARY:SOAR Advising Kickoff
DESCRIPTION:SOAR Advising Kickoff is an opportunity for all SOAR advisors to connect with colleagues across campus as we prepare for the coming SOAR season. \nParticipants will be provided with the most current information and updates related to advising programming at SOAR\, students\, technology\, admissions\, SOAR logistics and more through presentations and activities. \nRegister here for SOAR Advising Kickoff. \nPlease contact info.oacs@wisc.edu with any questions.
URL:https://oacs.wisc.edu/event/soar-kickoff/
LOCATION:H. F. DeLuca Forum\, Discovery Building\, 330 N. Orchard St.\, Madison\, WI\, 53715\, United States
CATEGORIES:For Advisors,For Experienced Staff,For New Staff,For Supervisors
END:VEVENT
BEGIN:VEVENT
DTSTART;TZID=America/Chicago:20240520T113000
DTEND;TZID=America/Chicago:20240520T133000
DTSTAMP:20260422T231351
CREATED:20231213T200437Z
LAST-MODIFIED:20240520T170053Z
UID:10000742-1716204600-1716211800@oacs.wisc.edu
SUMMARY:Spring Celebration & Awards Ceremony
DESCRIPTION:Join your colleagues and the Office of Academic & Career Success for the Spring Celebration & Awards Ceremony for the Advising\, Career Services & Learning Support communities! \nEnjoy a meal together and gather to celebrate those receiving an Advising\, Career Services\, and Learning Support Award. \nRegister here! \nUnable to attend in person or didn’t have a chance to register? Join us virtually via Zoom at 12:00 pm on Monday\, May 20th. Here is the link to join via Zoom. \nUse passcode: 743631 \n  \n 
URL:https://oacs.wisc.edu/event/spring-celebration-awards-ceremony-3/
LOCATION:Union South\, 1308 W Dayton Street\, Madison\, WI\, 53715\, United States
CATEGORIES:For Advisors,For Career Services Professionals,For Experienced Staff,For Learning Support Staff,For New Staff,For Supervisors
END:VEVENT
BEGIN:VEVENT
DTSTART;TZID=America/Chicago:20240530T090000
DTEND;TZID=America/Chicago:20240530T103000
DTSTAMP:20260422T231351
CREATED:20240422T182139Z
LAST-MODIFIED:20240429T175532Z
UID:10000790-1717059600-1717065000@oacs.wisc.edu
SUMMARY:Steppingblocks Training for Career Services Staff
DESCRIPTION:Steppingblocks is a tool that utilizes web scraping and machine learning to be a source of alumni and placement data beyond the first destination survey. It can inform our work advising students on various career paths\, developing employer relations strategies\, and building alumni engagement. Steppingblocks contains location\, employment information\, skills\, and other data on UW-Madison alumni. \nThis virtual training session is being offered by the Office of Academic & Career Success\, in partnership with the Office of Data\, Academic & Institutional Research and Steppingblocks. \nThe training will cover: \n\nAn introduction to Steppingblocks at UW-Madison\nAn overview of Steppingblocks data\nA full walk-through of the platform\nUse cases and examples for career services\nResources and how to get support\n\nWhen: May 30\, 9:00 – 10:30 am \nWhere: Virtual via Zoom \nPlease complete this registration form by Thursday\, May 23 if you would like to attend and save the date/time in your calendar. \nAfter May 23\, you will receive a calendar invitation with the Zoom link. \nPlease reach out to Danielle at danielle.marriner@wisc.edu with questions.
URL:https://oacs.wisc.edu/event/steppingblocks-training-for-career-services-staff/
LOCATION:Virtual
CATEGORIES:For Career Services Professionals,For Experienced Staff,For New Staff,For Supervisors
END:VEVENT
END:VCALENDAR