BEGIN:VCALENDAR
VERSION:2.0
PRODID:-//Office of Academic &amp; Career Success - ECPv6.15.20//NONSGML v1.0//EN
CALSCALE:GREGORIAN
METHOD:PUBLISH
X-WR-CALNAME:Office of Academic &amp; Career Success
X-ORIGINAL-URL:https://oacs.wisc.edu
X-WR-CALDESC:Events for Office of Academic &amp; Career Success
REFRESH-INTERVAL;VALUE=DURATION:PT1H
X-Robots-Tag:noindex
X-PUBLISHED-TTL:PT1H
BEGIN:VTIMEZONE
TZID:America/Chicago
BEGIN:DAYLIGHT
TZOFFSETFROM:-0600
TZOFFSETTO:-0500
TZNAME:CDT
DTSTART:20230312T080000
END:DAYLIGHT
BEGIN:STANDARD
TZOFFSETFROM:-0500
TZOFFSETTO:-0600
TZNAME:CST
DTSTART:20231105T070000
END:STANDARD
BEGIN:DAYLIGHT
TZOFFSETFROM:-0600
TZOFFSETTO:-0500
TZNAME:CDT
DTSTART:20240310T080000
END:DAYLIGHT
BEGIN:STANDARD
TZOFFSETFROM:-0500
TZOFFSETTO:-0600
TZNAME:CST
DTSTART:20241103T070000
END:STANDARD
BEGIN:DAYLIGHT
TZOFFSETFROM:-0600
TZOFFSETTO:-0500
TZNAME:CDT
DTSTART:20250309T080000
END:DAYLIGHT
BEGIN:STANDARD
TZOFFSETFROM:-0500
TZOFFSETTO:-0600
TZNAME:CST
DTSTART:20251102T070000
END:STANDARD
END:VTIMEZONE
BEGIN:VEVENT
DTSTART;TZID=America/Chicago:20240509T100000
DTEND;TZID=America/Chicago:20240509T111500
DTSTAMP:20260422T161046
CREATED:20240112T214858Z
LAST-MODIFIED:20240112T214858Z
UID:10000760-1715248800-1715253300@oacs.wisc.edu
SUMMARY:ANS 101
DESCRIPTION:This orientation session is for new users of the university’s shared Advisor Notes System (ANS). This session provides an introduction to the system\, a live demonstration including navigation and record entry\, and guidelines for use of the system focusing on writing and interpreting advising notes.  \nThis 1 hour and 15 minute session is required for new users of the Advisor Notes System.  \nAny faculty and/or staff member who has an undergraduate advising/career services role (as all or part of their work) or who needs access to individual student undergraduate advising notes for their work are currently eligible to use the Advisor Notes System. At this time undergraduate employees and staff are not eligible to use the system. Please note: while ANS was originally designed to meet undergraduate advising/career services needs\, it can certainly be used by graduate and professional advisors to document contacts with their advisees. \nThis training will be offered in a virtual format (Zoom).  \nRegistrants will receive an email with instructions on how to join the meeting approximately 24 hours prior to the start time. \nRegister Here!
URL:https://oacs.wisc.edu/event/ans-101-14/
CATEGORIES:For Advisors,For Career Services Professionals,For Learning Support Staff,For New Staff,For Supervisors
END:VEVENT
BEGIN:VEVENT
DTSTART;TZID=America/Chicago:20240508T130000
DTEND;TZID=America/Chicago:20240508T140000
DTSTAMP:20260422T161046
CREATED:20240422T181319Z
LAST-MODIFIED:20240422T181319Z
UID:10000789-1715173200-1715176800@oacs.wisc.edu
SUMMARY:Career Courses & Curriculum CoP Meeting
DESCRIPTION:The Career Courses & Curriculum Community of Practice is a group of career services colleagues who share common challenges\, opportunities\, and a passion for teaching career development content regardless of their job title. Community of Practice members will collaborate to deepen their understanding of career courses and curriculum and build skills through ongoing learning and knowledge sharing. \nMeeting Topic: Hannah Hatlan-Atwell from the School of Human Ecology (and the leader of this CoP) will facilitate a discussion on policies and language in syllabi for career courses. As pre-work for this discussion\, please contribute your ideas and samples from your own syllabi. \nWhen: May 8\, 1:00 – 2:00 pm \nWhere: Virtual via Zoom \n\nJoin the Zoom meeting here\nMeeting ID: 988 7786 8914\nPasscode: 125325\n\nIf you would like to become a Career Courses and Curriculum Community of Practice member\, please fill out the Career Services Communities of Practice Interest Form. \nQuestions? Contact Danielle at danielle.marriner@wisc.edu.
URL:https://oacs.wisc.edu/event/career-courses-curriculum-cop-meeting/
LOCATION:Virtual
CATEGORIES:For Career Services Professionals,For Experienced Staff,For New Staff,For Supervisors
END:VEVENT
BEGIN:VEVENT
DTSTART;TZID=America/Chicago:20240507T133000
DTEND;TZID=America/Chicago:20240507T150000
DTSTAMP:20260422T161046
CREATED:20231219T211250Z
LAST-MODIFIED:20240305T193900Z
UID:10000305-1715088600-1715094000@oacs.wisc.edu
SUMMARY:Campus Resources and Referrals
DESCRIPTION:Campus Resources & Referrals is a series of events that provide community building and professional development for new staff\, focused on holistic student support and well-being. Anyone who considers themselves a new(ish) advisor\, career services\, or learning support staff is very encouraged to join. \nParticipants will engage with each other\, connect with key UW-Madison resources\, and learn when and how to refer students across campus. Each monthly session will include a facilitator from offices such as: Dean of Students\, University Health Services\, McBurney Disability Resource Center\, and more. \nThe May session will feature International Student Services. \nPlease sign up here to participate!
URL:https://oacs.wisc.edu/event/campus-resources-and-referrals-6/
LOCATION:Memorial Union
CATEGORIES:For Advisors,For Career Services Professionals,For Learning Support Staff,For New Staff
END:VEVENT
BEGIN:VEVENT
DTSTART;TZID=America/Chicago:20240506T110000
DTEND;TZID=America/Chicago:20240506T120000
DTSTAMP:20260422T161046
CREATED:20231025T172949Z
LAST-MODIFIED:20231025T172949Z
UID:10000730-1714993200-1714996800@oacs.wisc.edu
SUMMARY:New Staff Welcome Session
DESCRIPTION:This small group\, discussion-based meeting is for new staff in advising\, career services\, and learning support. \nIn a welcome session\, you will have the opportunity to: \n\nBuild connections with other professionals new in their roles\nLearn about the history and structure of the Office of Academic & Career Success\nRecognize available tools and resources\nExplore training and professional development opportunities for new staff\n\nTo receive a registration link for the New Staff Welcome Session\, please complete the New Staff Information Form: https://forms.gle/EJbg9y1nXxKTHzQv7 \nQuestions: Contact Danielle Marriner (danielle.marriner@wisc.edu) \nHosted by: The Office of Academic & Career Success
URL:https://oacs.wisc.edu/event/new-staff-welcome-session-5-6-24/
LOCATION:Ingraham Hall
CATEGORIES:For Advisors,For Career Services Professionals,For Learning Support Staff,For New Staff
END:VEVENT
BEGIN:VEVENT
DTSTART;TZID=America/Chicago:20240503T110000
DTEND;TZID=America/Chicago:20240503T120000
DTSTAMP:20260422T161046
CREATED:20240417T161626Z
LAST-MODIFIED:20240422T181109Z
UID:10000788-1714734000-1714737600@oacs.wisc.edu
SUMMARY:International Student Career Development CoP Meeting
DESCRIPTION:The International Student Career Development Community of Practice is a group of career services colleagues who share common challenges\, opportunities\, and a passion for career development work for international students regardless of their job title. Community of Practice members will collaborate to deepen their understanding of international student career development and build skills through ongoing learning and knowledge sharing. \nMeeting Topic: Steve Catania from SuccessWorks will chat about content related to Canvas modules in addition to talking about their Inter-LS 260 course which is one option international students can use get approval for domestic internships via CPT. \nWhen: May 3\, 11:00 am – 12:00 pm \nWhere: Virtual via Zoom \n\nJoin the Zoom meeting here\nMeeting ID: 973 3340 6601\nPasscode: 925794\n\nIf you would like to become an International Student Career Development Community of Practice member\, please fill out the Career Services Communities of Practice Interest Form. \nQuestions? Contact Danielle at danielle.marriner@wisc.edu.
URL:https://oacs.wisc.edu/event/international-student-career-development-cop-meeting/
LOCATION:Virtual
CATEGORIES:For Career Services Professionals,For Experienced Staff,For New Staff,For Supervisors
END:VEVENT
BEGIN:VEVENT
DTSTART;TZID=America/Chicago:20240502T150000
DTEND;TZID=America/Chicago:20240502T160000
DTSTAMP:20260422T161046
CREATED:20240206T155719Z
LAST-MODIFIED:20240206T163437Z
UID:10000767-1714662000-1714665600@oacs.wisc.edu
SUMMARY:Build a Goodie Bag: Wellness Event Series
DESCRIPTION:Join us and fill a goodie bag to uplift a co-worker or friend! All goodie bag supplies will be provided. Just bring yourself. \nOrganized by the Wellness Subcommittee. \nRegister here for any of our Spring Wellness Events!
URL:https://oacs.wisc.edu/event/build-a-goodie-bag-wellness-event-series/
LOCATION:Union South\, 1308 W Dayton Street\, Madison\, WI\, 53715\, United States
CATEGORIES:For Advisors,For Career Services Professionals,For Experienced Staff,For Learning Support Staff,For New Staff,For Supervisors
END:VEVENT
BEGIN:VEVENT
DTSTART;TZID=America/Chicago:20240430T123000
DTEND;TZID=America/Chicago:20240430T140000
DTSTAMP:20260422T161046
CREATED:20240301T220754Z
LAST-MODIFIED:20240301T220754Z
UID:10000777-1714480200-1714485600@oacs.wisc.edu
SUMMARY:Career Programming Community of Practice
DESCRIPTION:The Career Programming Community of Practice is a group of career services colleagues who share common challenges\, opportunities\, and/or a passion for career programming and event planning regardless of their job title. Community of Practice members will collaborate to deepen their understanding of this topic and build skills through ongoing learning and knowledge sharing. \nMeeting topics will vary based on community needs and interests\, and may include methods such as guest speakers\, roundtable discussions\, presentations\, panels\, etc. This meeting is being held in-person. \nHow to Join: To become a member of this Community of Practice and receive more information about this specific meeting\, please fill out this Career Services Communities of Practice Interest Form. \nQuestions? Contact Danielle Marriner (danielle.marriner@wisc.edu). \nLink to additional resources: https://oacs.wisc.edu/career-services-communities-of-practice/
URL:https://oacs.wisc.edu/event/career-programming-community-of-practice-2/
CATEGORIES:For Career Services Professionals,For Experienced Staff,For New Staff,For Supervisors
END:VEVENT
BEGIN:VEVENT
DTSTART;TZID=America/Chicago:20240429T140000
DTEND;TZID=America/Chicago:20240429T153000
DTSTAMP:20260422T161046
CREATED:20240226T203843Z
LAST-MODIFIED:20240226T203939Z
UID:10000775-1714399200-1714404600@oacs.wisc.edu
SUMMARY:Tableau Training for Career Services
DESCRIPTION:The Office of Academic & Career Success\, in partnership with the Office of Data\, Academic & Institutional Research\, is excited to present a Tableau training for career services staff! \nTableau is a business intelligence data visualization tool that allows users to interact with data through dynamic and interactive dashboards\, maps\, and other presentation formats. We currently use Tableau to house our First Destination Survey (FDS) data visualizations\, making it an important resource for career services staff. In addition to FDS data\, Tableau can be used to access enrollment information\, trends in degrees\, and much more. \nAttendees should expect to use their laptops to navigate Tableau during the session and will learn more about how to make the most of this data tool. \nThis event is limited to 25 participants\, however\, we do anticipate offering it again in the future. \nPlease complete this interest form by Friday\, March 29 if you would like to attend. We will follow up with you to confirm participation after the registration deadline has passed.  \nQuestions? Reach out to Tara Milliken at tara.milliken@wisc.edu.
URL:https://oacs.wisc.edu/event/tableau-training-for-career-services/
LOCATION:1199 Nancy Nicholas Hall
CATEGORIES:For Career Services Professionals,For Experienced Staff,For New Staff,For Supervisors
END:VEVENT
BEGIN:VEVENT
DTSTART;TZID=America/Chicago:20240426T100000
DTEND;TZID=America/Chicago:20240426T224500
DTSTAMP:20260422T161046
CREATED:20240312T180907Z
LAST-MODIFIED:20240312T180907Z
UID:10000783-1714125600-1714171500@oacs.wisc.edu
SUMMARY:Transferology Training
DESCRIPTION:The Credit Evaluation Services team will be providing training on using Transferology and TransferologyLab on April 26th from 10:00 – 10:45 am. \nTransferologyLab is the source of transfer equivalencies for faculty and staff at UW. Transferology is the student facing website\, with transfer equivalencies from institutions across the country. The equivalencies are the same on both sites. \nThe session will be a live demonstration with the opportunity to follow along in your own account. The session will include using both TransferologyLab and Transferology to view course equivalencies\, find direct equivalents\, and search for UW requirements. \nWe are providing this training because the Office of the Registrar has retired the Course Equivalency Service. It has been replaced by allowing UW-Madison students to reliably use and add equivalents to Transferology\, a public transfer credit database. The Office of the Registrar held an information session about this change earlier this year. If you could not attend or would like to revisit the presentation\, you can access the recording here. \nThis training session is appropriate for any advisor wanting a refresher on Transferology or TransferologyLab\, or any advisor new to these sites.  \nThe training will be 45 minutes\, which will include time for questions. \nRegistration is not required. You can join the info session by clicking here on the event date/time.
URL:https://oacs.wisc.edu/event/transferology-training-4/
LOCATION:Virtual
CATEGORIES:For Advisors,For Career Services Professionals,For Experienced Staff,For Learning Support Staff,For New Staff,For Supervisors
END:VEVENT
END:VCALENDAR