BEGIN:VCALENDAR
VERSION:2.0
PRODID:-//Office of Academic &amp; Career Success - ECPv6.15.20//NONSGML v1.0//EN
CALSCALE:GREGORIAN
METHOD:PUBLISH
X-WR-CALNAME:Office of Academic &amp; Career Success
X-ORIGINAL-URL:https://oacs.wisc.edu
X-WR-CALDESC:Events for Office of Academic &amp; Career Success
REFRESH-INTERVAL;VALUE=DURATION:PT1H
X-Robots-Tag:noindex
X-PUBLISHED-TTL:PT1H
BEGIN:VTIMEZONE
TZID:America/Chicago
BEGIN:DAYLIGHT
TZOFFSETFROM:-0600
TZOFFSETTO:-0500
TZNAME:CDT
DTSTART:20250309T080000
END:DAYLIGHT
BEGIN:STANDARD
TZOFFSETFROM:-0500
TZOFFSETTO:-0600
TZNAME:CST
DTSTART:20251102T070000
END:STANDARD
BEGIN:DAYLIGHT
TZOFFSETFROM:-0600
TZOFFSETTO:-0500
TZNAME:CDT
DTSTART:20260308T080000
END:DAYLIGHT
BEGIN:STANDARD
TZOFFSETFROM:-0500
TZOFFSETTO:-0600
TZNAME:CST
DTSTART:20261101T070000
END:STANDARD
BEGIN:DAYLIGHT
TZOFFSETFROM:-0600
TZOFFSETTO:-0500
TZNAME:CDT
DTSTART:20270314T080000
END:DAYLIGHT
BEGIN:STANDARD
TZOFFSETFROM:-0500
TZOFFSETTO:-0600
TZNAME:CST
DTSTART:20271107T070000
END:STANDARD
END:VTIMEZONE
BEGIN:VEVENT
DTSTART;TZID=America/Chicago:20260507T150000
DTEND;TZID=America/Chicago:20260507T163000
DTSTAMP:20260422T104002
CREATED:20260416T151317Z
LAST-MODIFIED:20260416T180023Z
UID:10001009-1778166000-1778171400@oacs.wisc.edu
SUMMARY:🎉 Advisor End-of-Semester Celebration!
DESCRIPTION:Join OACS and your fellow advising community members for an end-of-semester celebration at the Memorial Union Terrace. This informal gathering is a chance for advisors from across campus to get together\, enjoy some appetizers\, and celebrate the semester’s end. \nWe invite you to come and go as needed and hope to see you there 👋 \nQuestions? Contact Kala at kala.grove@wisc.edu. \n\nWhen: Thursday\, May 7\, 2026 from 3:00 to 4:30 p.m. \nWhere: Memorial Union Terrace \nWho: Advising Community Members \nLet us know if we’ll see you there! \n\nPlease note that using the “Add to Calendar” button below will not register you for this event. Please click the link above to register.
URL:https://oacs.wisc.edu/event/advisor-end-of-semester-celebration/
LOCATION:Memorial Union
CATEGORIES:For Advisors
END:VEVENT
END:VCALENDAR